BEGIN:VCALENDAR
VERSION:2.0
PRODID:-//Happy Valley - ECPv6.15.17//NONSGML v1.0//EN
CALSCALE:GREGORIAN
METHOD:PUBLISH
X-WR-CALNAME:Happy Valley
X-ORIGINAL-URL:https://happyvalleykart.com
X-WR-CALDESC:Eventi per Happy Valley
REFRESH-INTERVAL;VALUE=DURATION:PT1H
X-Robots-Tag:noindex
X-PUBLISHED-TTL:PT1H
BEGIN:VTIMEZONE
TZID:UTC
BEGIN:STANDARD
TZOFFSETFROM:+0000
TZOFFSETTO:+0000
TZNAME:UTC
DTSTART:20250101T000000
END:STANDARD
END:VTIMEZONE
BEGIN:VEVENT
DTSTART;TZID=UTC:20260910T201500
DTEND;TZID=UTC:20260910T221500
DTSTAMP:20260419T175742
CREATED:20260224T201439Z
LAST-MODIFIED:20260224T201439Z
UID:10002768-1789071300-1789078500@happyvalleykart.com
SUMMARY:Happy Valley Sprint Cup
DESCRIPTION:
URL:https://happyvalleykart.com/event/happy-valley-sprint-cup/2026-09-10/
LOCATION:Kartodromo Happy Valley\, S.S. 16 Romea Sud 74\, Cervia\, Italia\, 48015\, Italia
CATEGORIES:Rental
ATTACH;FMTTYPE=image/jpeg:https://happyvalleykart.com/wp-content/uploads/2026/02/WhatsApp-Image-2026-01-27-at-14.41.11.jpeg
END:VEVENT
BEGIN:VEVENT
DTSTART;TZID=UTC:20260913T090000
DTEND;TZID=UTC:20260913T160000
DTSTAMP:20260419T175742
CREATED:20260107T142745Z
LAST-MODIFIED:20260124T171250Z
UID:10002699-1789290000-1789315200@happyvalleykart.com
SUMMARY:4° REVIVAL HISTORIC KART  (ASI)
DESCRIPTION:ESIBIZIONE DI KART STORICI E MODERNI \nINFO ISCRIZIONE E COMUNICATO
URL:https://happyvalleykart.com/event/4-revival-historic-kart-asi/
LOCATION:Kartodromo Happy Valley\, S.S. 16 Romea Sud 74\, Cervia\, Italia\, 48015\, Italia
CATEGORIES:Eventi,Prove libere Kart/Moto di proprietà
ATTACH;FMTTYPE=image/jpeg:https://happyvalleykart.com/wp-content/uploads/2024/06/12.jpg
END:VEVENT
END:VCALENDAR