BEGIN:VCALENDAR
VERSION:2.0
PRODID:-//Happy Valley - ECPv6.15.17//NONSGML v1.0//EN
CALSCALE:GREGORIAN
METHOD:PUBLISH
X-WR-CALNAME:Happy Valley
X-ORIGINAL-URL:https://happyvalleykart.com
X-WR-CALDESC:Eventi per Happy Valley
REFRESH-INTERVAL;VALUE=DURATION:PT1H
X-Robots-Tag:noindex
X-PUBLISHED-TTL:PT1H
BEGIN:VTIMEZONE
TZID:UTC
BEGIN:STANDARD
TZOFFSETFROM:+0000
TZOFFSETTO:+0000
TZNAME:UTC
DTSTART:20230101T000000
END:STANDARD
END:VTIMEZONE
BEGIN:VEVENT
DTSTART;TZID=UTC:20241013T160000
DTEND;TZID=UTC:20241013T190000
DTSTAMP:20260419T212704
CREATED:20241101T142547Z
LAST-MODIFIED:20241101T142547Z
UID:10001338-1728835200-1728846000@happyvalleykart.com
SUMMARY:NOLEGGIO KART
DESCRIPTION:
URL:https://happyvalleykart.com/event/noleggio-kart-6/2024-10-13/
LOCATION:Kartodromo Happy Valley\, S.S. 16 Romea Sud 74\, Cervia\, Italia\, 48015\, Italia
CATEGORIES:Noleggio Kart
END:VEVENT
BEGIN:VEVENT
DTSTART;TZID=UTC:20241013T090000
DTEND;TZID=UTC:20241013T160000
DTSTAMP:20260419T212704
CREATED:20241023T082901Z
LAST-MODIFIED:20250110T144811Z
UID:10001097-1728810000-1728835200@happyvalleykart.com
SUMMARY:Libere Moto e Minimoto Private 2024
DESCRIPTION:Alle prove libere si accede prenotando telefonicamente al 351 7374427 oppure al 0544 987304 (no e-mail\, no messaggi\,no whats app). Le prenotazioni sono aperte dal martedì al venerdì dalle 15 alle 19 antecedenti al week-end scelto.
URL:https://happyvalleykart.com/event/libere-moto-e-minimoto-private-2/2024-10-13/
LOCATION:Kartodromo Happy Valley\, S.S. 16 Romea Sud 74\, Cervia\, Italia\, 48015\, Italia
CATEGORIES:Prove libere Kart/Moto di proprietà
ATTACH;FMTTYPE=image/jpeg:https://happyvalleykart.com/wp-content/uploads/2024/03/moto-proprieta.jpeg
END:VEVENT
BEGIN:VEVENT
DTSTART;TZID=UTC:20241012T160000
DTEND;TZID=UTC:20241012T190000
DTSTAMP:20260419T212704
CREATED:20241101T142547Z
LAST-MODIFIED:20241101T142547Z
UID:10001337-1728748800-1728759600@happyvalleykart.com
SUMMARY:NOLEGGIO KART
DESCRIPTION:
URL:https://happyvalleykart.com/event/noleggio-kart-6/2024-10-12/
LOCATION:Kartodromo Happy Valley\, S.S. 16 Romea Sud 74\, Cervia\, Italia\, 48015\, Italia
CATEGORIES:Noleggio Kart
END:VEVENT
BEGIN:VEVENT
DTSTART;TZID=UTC:20241012T090000
DTEND;TZID=UTC:20241012T160000
DTSTAMP:20260419T212704
CREATED:20241023T082901Z
LAST-MODIFIED:20250110T144811Z
UID:10001100-1728723600-1728748800@happyvalleykart.com
SUMMARY:Libere Moto e Minimoto Private 2024
DESCRIPTION:Alle prove libere si accede prenotando telefonicamente al 351 7374427 oppure al 0544 987304 (no e-mail\, no messaggi\,no whats app). Le prenotazioni sono aperte dal martedì al venerdì dalle 15 alle 19 antecedenti al week-end scelto.
URL:https://happyvalleykart.com/event/libere-moto-e-minimoto-private-2/2024-10-12/
LOCATION:Kartodromo Happy Valley\, S.S. 16 Romea Sud 74\, Cervia\, Italia\, 48015\, Italia
CATEGORIES:Prove libere Kart/Moto di proprietà
ATTACH;FMTTYPE=image/jpeg:https://happyvalleykart.com/wp-content/uploads/2024/03/moto-proprieta.jpeg
END:VEVENT
BEGIN:VEVENT
DTSTART;TZID=UTC:20241012T090000
DTEND;TZID=UTC:20241012T160000
DTSTAMP:20260419T212704
CREATED:20241023T082438Z
LAST-MODIFIED:20250110T144721Z
UID:10001086-1728723600-1728748800@happyvalleykart.com
SUMMARY:Libere Kart Privati 2024
DESCRIPTION:Alle prove libere si accede prenotando telefonicamente al 351 7374427 oppure al 0544 987304 (no e-mail\, no messaggi\,no whats app). Le prenotazioni sono aperte dal martedì al venerdì dalle 15 alle 19 antecedenti al week-end scelto.
URL:https://happyvalleykart.com/event/libere-kart-privati/2024-10-12/
LOCATION:Kartodromo Happy Valley\, S.S. 16 Romea Sud 74\, Cervia\, Italia\, 48015\, Italia
CATEGORIES:Orari,Prove libere Kart/Moto di proprietà
ATTACH;FMTTYPE=image/jpeg:https://happyvalleykart.com/wp-content/uploads/2024/03/kart-proprieta.jpeg
END:VEVENT
BEGIN:VEVENT
DTSTART;TZID=UTC:20241011T160000
DTEND;TZID=UTC:20241011T190000
DTSTAMP:20260419T212704
CREATED:20241101T142547Z
LAST-MODIFIED:20241101T142547Z
UID:10001336-1728662400-1728673200@happyvalleykart.com
SUMMARY:NOLEGGIO KART
DESCRIPTION:
URL:https://happyvalleykart.com/event/noleggio-kart-6/2024-10-11/
LOCATION:Kartodromo Happy Valley\, S.S. 16 Romea Sud 74\, Cervia\, Italia\, 48015\, Italia
CATEGORIES:Noleggio Kart
END:VEVENT
BEGIN:VEVENT
DTSTART;TZID=UTC:20241010T160000
DTEND;TZID=UTC:20241010T203000
DTSTAMP:20260419T212704
CREATED:20241017T105118Z
LAST-MODIFIED:20241027T122105Z
UID:10001031-1728576000-1728592200@happyvalleykart.com
SUMMARY:SOLO GP/MINI GP SU PRENOTAZIONE
DESCRIPTION:
URL:https://happyvalleykart.com/event/gp-e-mini-gp-su-prenotazione-3/2024-10-10/
LOCATION:Kartodromo Happy Valley\, S.S. 16 Romea Sud 74\, Cervia\, Italia\, 48015\, Italia
CATEGORIES:Noleggio Kart
END:VEVENT
BEGIN:VEVENT
DTSTART;TZID=UTC:20241009T160000
DTEND;TZID=UTC:20241009T203000
DTSTAMP:20260419T212704
CREATED:20241017T105118Z
LAST-MODIFIED:20241027T122105Z
UID:10001030-1728489600-1728505800@happyvalleykart.com
SUMMARY:SOLO GP/MINI GP SU PRENOTAZIONE
DESCRIPTION:
URL:https://happyvalleykart.com/event/gp-e-mini-gp-su-prenotazione-3/2024-10-09/
LOCATION:Kartodromo Happy Valley\, S.S. 16 Romea Sud 74\, Cervia\, Italia\, 48015\, Italia
CATEGORIES:Noleggio Kart
END:VEVENT
BEGIN:VEVENT
DTSTART;TZID=UTC:20241008T160000
DTEND;TZID=UTC:20241008T203000
DTSTAMP:20260419T212704
CREATED:20241017T105118Z
LAST-MODIFIED:20241027T122105Z
UID:10001029-1728403200-1728419400@happyvalleykart.com
SUMMARY:SOLO GP/MINI GP SU PRENOTAZIONE
DESCRIPTION:
URL:https://happyvalleykart.com/event/gp-e-mini-gp-su-prenotazione-3/2024-10-08/
LOCATION:Kartodromo Happy Valley\, S.S. 16 Romea Sud 74\, Cervia\, Italia\, 48015\, Italia
CATEGORIES:Noleggio Kart
END:VEVENT
BEGIN:VEVENT
DTSTART;TZID=UTC:20241007T080000
DTEND;TZID=UTC:20241007T233000
DTSTAMP:20260419T212704
CREATED:20240809T111834Z
LAST-MODIFIED:20240921T132917Z
UID:10000922-1728288000-1728343800@happyvalleykart.com
SUMMARY:CHIUSURA
DESCRIPTION:
URL:https://happyvalleykart.com/event/chiusura/2024-10-07/
LOCATION:Kartodromo Happy Valley\, S.S. 16 Romea Sud 74\, Cervia\, Italia\, 48015\, Italia
CATEGORIES:Noleggio Kart,Orari
END:VEVENT
BEGIN:VEVENT
DTSTART;TZID=UTC:20241006T160000
DTEND;TZID=UTC:20241006T190000
DTSTAMP:20260419T212704
CREATED:20241101T142547Z
LAST-MODIFIED:20241101T142547Z
UID:10001335-1728230400-1728241200@happyvalleykart.com
SUMMARY:NOLEGGIO KART
DESCRIPTION:
URL:https://happyvalleykart.com/event/noleggio-kart-6/2024-10-06/
LOCATION:Kartodromo Happy Valley\, S.S. 16 Romea Sud 74\, Cervia\, Italia\, 48015\, Italia
CATEGORIES:Noleggio Kart
END:VEVENT
BEGIN:VEVENT
DTSTART;TZID=UTC:20241006T090000
DTEND;TZID=UTC:20241006T160000
DTSTAMP:20260419T212704
CREATED:20241023T082438Z
LAST-MODIFIED:20250110T144721Z
UID:10001085-1728205200-1728230400@happyvalleykart.com
SUMMARY:Libere Kart Privati 2024
DESCRIPTION:Alle prove libere si accede prenotando telefonicamente al 351 7374427 oppure al 0544 987304 (no e-mail\, no messaggi\,no whats app). Le prenotazioni sono aperte dal martedì al venerdì dalle 15 alle 19 antecedenti al week-end scelto.
URL:https://happyvalleykart.com/event/libere-kart-privati/2024-10-06/
LOCATION:Kartodromo Happy Valley\, S.S. 16 Romea Sud 74\, Cervia\, Italia\, 48015\, Italia
CATEGORIES:Orari,Prove libere Kart/Moto di proprietà
ATTACH;FMTTYPE=image/jpeg:https://happyvalleykart.com/wp-content/uploads/2024/03/kart-proprieta.jpeg
END:VEVENT
BEGIN:VEVENT
DTSTART;TZID=UTC:20241005T160000
DTEND;TZID=UTC:20241005T190000
DTSTAMP:20260419T212704
CREATED:20241101T142547Z
LAST-MODIFIED:20241101T142547Z
UID:10001334-1728144000-1728154800@happyvalleykart.com
SUMMARY:NOLEGGIO KART
DESCRIPTION:
URL:https://happyvalleykart.com/event/noleggio-kart-6/2024-10-05/
LOCATION:Kartodromo Happy Valley\, S.S. 16 Romea Sud 74\, Cervia\, Italia\, 48015\, Italia
CATEGORIES:Noleggio Kart
END:VEVENT
BEGIN:VEVENT
DTSTART;TZID=UTC:20241005T090000
DTEND;TZID=UTC:20241005T160000
DTSTAMP:20260419T212704
CREATED:20241023T082901Z
LAST-MODIFIED:20250110T144811Z
UID:10001096-1728118800-1728144000@happyvalleykart.com
SUMMARY:Libere Moto e Minimoto Private 2024
DESCRIPTION:Alle prove libere si accede prenotando telefonicamente al 351 7374427 oppure al 0544 987304 (no e-mail\, no messaggi\,no whats app). Le prenotazioni sono aperte dal martedì al venerdì dalle 15 alle 19 antecedenti al week-end scelto.
URL:https://happyvalleykart.com/event/libere-moto-e-minimoto-private-2/2024-10-05/
LOCATION:Kartodromo Happy Valley\, S.S. 16 Romea Sud 74\, Cervia\, Italia\, 48015\, Italia
CATEGORIES:Prove libere Kart/Moto di proprietà
ATTACH;FMTTYPE=image/jpeg:https://happyvalleykart.com/wp-content/uploads/2024/03/moto-proprieta.jpeg
END:VEVENT
BEGIN:VEVENT
DTSTART;TZID=UTC:20241004T160000
DTEND;TZID=UTC:20241004T190000
DTSTAMP:20260419T212704
CREATED:20241101T142547Z
LAST-MODIFIED:20241101T142547Z
UID:10001333-1728057600-1728068400@happyvalleykart.com
SUMMARY:NOLEGGIO KART
DESCRIPTION:
URL:https://happyvalleykart.com/event/noleggio-kart-6/2024-10-04/
LOCATION:Kartodromo Happy Valley\, S.S. 16 Romea Sud 74\, Cervia\, Italia\, 48015\, Italia
CATEGORIES:Noleggio Kart
END:VEVENT
BEGIN:VEVENT
DTSTART;TZID=UTC:20241003T160000
DTEND;TZID=UTC:20241003T203000
DTSTAMP:20260419T212704
CREATED:20241017T105118Z
LAST-MODIFIED:20241027T122105Z
UID:10001028-1727971200-1727987400@happyvalleykart.com
SUMMARY:SOLO GP/MINI GP SU PRENOTAZIONE
DESCRIPTION:
URL:https://happyvalleykart.com/event/gp-e-mini-gp-su-prenotazione-3/2024-10-03/
LOCATION:Kartodromo Happy Valley\, S.S. 16 Romea Sud 74\, Cervia\, Italia\, 48015\, Italia
CATEGORIES:Noleggio Kart
END:VEVENT
BEGIN:VEVENT
DTSTART;TZID=UTC:20241002T160000
DTEND;TZID=UTC:20241002T203000
DTSTAMP:20260419T212704
CREATED:20241017T105118Z
LAST-MODIFIED:20241027T122105Z
UID:10001027-1727884800-1727901000@happyvalleykart.com
SUMMARY:SOLO GP/MINI GP SU PRENOTAZIONE
DESCRIPTION:
URL:https://happyvalleykart.com/event/gp-e-mini-gp-su-prenotazione-3/2024-10-02/
LOCATION:Kartodromo Happy Valley\, S.S. 16 Romea Sud 74\, Cervia\, Italia\, 48015\, Italia
CATEGORIES:Noleggio Kart
END:VEVENT
BEGIN:VEVENT
DTSTART;TZID=UTC:20241001T160000
DTEND;TZID=UTC:20241001T203000
DTSTAMP:20260419T212704
CREATED:20241017T105118Z
LAST-MODIFIED:20241027T122105Z
UID:10001026-1727798400-1727814600@happyvalleykart.com
SUMMARY:SOLO GP/MINI GP SU PRENOTAZIONE
DESCRIPTION:
URL:https://happyvalleykart.com/event/gp-e-mini-gp-su-prenotazione-3/2024-10-01/
LOCATION:Kartodromo Happy Valley\, S.S. 16 Romea Sud 74\, Cervia\, Italia\, 48015\, Italia
CATEGORIES:Noleggio Kart
END:VEVENT
BEGIN:VEVENT
DTSTART;TZID=UTC:20240930T080000
DTEND;TZID=UTC:20240930T233000
DTSTAMP:20260419T212704
CREATED:20240809T111834Z
LAST-MODIFIED:20240921T132917Z
UID:10000848-1727683200-1727739000@happyvalleykart.com
SUMMARY:CHIUSURA
DESCRIPTION:
URL:https://happyvalleykart.com/event/chiusura/2024-09-30/
LOCATION:Kartodromo Happy Valley\, S.S. 16 Romea Sud 74\, Cervia\, Italia\, 48015\, Italia
CATEGORIES:Noleggio Kart,Orari
END:VEVENT
BEGIN:VEVENT
DTSTART;TZID=UTC:20240929T160000
DTEND;TZID=UTC:20240929T190000
DTSTAMP:20260419T212704
CREATED:20241101T142547Z
LAST-MODIFIED:20241101T142547Z
UID:10001332-1727625600-1727636400@happyvalleykart.com
SUMMARY:NOLEGGIO KART
DESCRIPTION:
URL:https://happyvalleykart.com/event/noleggio-kart-6/2024-09-29/
LOCATION:Kartodromo Happy Valley\, S.S. 16 Romea Sud 74\, Cervia\, Italia\, 48015\, Italia
CATEGORIES:Noleggio Kart
END:VEVENT
BEGIN:VEVENT
DTSTART;TZID=UTC:20240929T090000
DTEND;TZID=UTC:20240929T160000
DTSTAMP:20260419T212704
CREATED:20241017T111216Z
LAST-MODIFIED:20260325T174130Z
UID:10001050-1727600400-1727625600@happyvalleykart.com
SUMMARY:CIRCUITO RISERVATO
DESCRIPTION:
URL:https://happyvalleykart.com/event/evento-privato-2/2024-09-29/
LOCATION:Kartodromo Happy Valley\, S.S. 16 Romea Sud 74\, Cervia\, Italia\, 48015\, Italia
CATEGORIES:Prove libere Kart/Moto di proprietà
ATTACH;FMTTYPE=image/jpeg:https://happyvalleykart.com/wp-content/uploads/2024/08/RESERVED-TRACK-2.jpg
END:VEVENT
BEGIN:VEVENT
DTSTART;TZID=UTC:20240928T160000
DTEND;TZID=UTC:20240928T190000
DTSTAMP:20260419T212704
CREATED:20241101T142547Z
LAST-MODIFIED:20241101T142547Z
UID:10001331-1727539200-1727550000@happyvalleykart.com
SUMMARY:NOLEGGIO KART
DESCRIPTION:
URL:https://happyvalleykart.com/event/noleggio-kart-6/2024-09-28/
LOCATION:Kartodromo Happy Valley\, S.S. 16 Romea Sud 74\, Cervia\, Italia\, 48015\, Italia
CATEGORIES:Noleggio Kart
END:VEVENT
BEGIN:VEVENT
DTSTART;TZID=UTC:20240928T090000
DTEND;TZID=UTC:20240928T160000
DTSTAMP:20260419T212704
CREATED:20241023T082901Z
LAST-MODIFIED:20250110T144811Z
UID:10001099-1727514000-1727539200@happyvalleykart.com
SUMMARY:Libere Moto e Minimoto Private 2024
DESCRIPTION:Alle prove libere si accede prenotando telefonicamente al 351 7374427 oppure al 0544 987304 (no e-mail\, no messaggi\,no whats app). Le prenotazioni sono aperte dal martedì al venerdì dalle 15 alle 19 antecedenti al week-end scelto.
URL:https://happyvalleykart.com/event/libere-moto-e-minimoto-private-2/2024-09-28/
LOCATION:Kartodromo Happy Valley\, S.S. 16 Romea Sud 74\, Cervia\, Italia\, 48015\, Italia
CATEGORIES:Prove libere Kart/Moto di proprietà
ATTACH;FMTTYPE=image/jpeg:https://happyvalleykart.com/wp-content/uploads/2024/03/moto-proprieta.jpeg
END:VEVENT
BEGIN:VEVENT
DTSTART;TZID=UTC:20240928T090000
DTEND;TZID=UTC:20240928T120000
DTSTAMP:20260419T212704
CREATED:20241017T111216Z
LAST-MODIFIED:20260325T174130Z
UID:10001049-1727514000-1727524800@happyvalleykart.com
SUMMARY:CIRCUITO RISERVATO
DESCRIPTION:
URL:https://happyvalleykart.com/event/evento-privato-2/2024-09-28/
LOCATION:Kartodromo Happy Valley\, S.S. 16 Romea Sud 74\, Cervia\, Italia\, 48015\, Italia
CATEGORIES:Prove libere Kart/Moto di proprietà
ATTACH;FMTTYPE=image/jpeg:https://happyvalleykart.com/wp-content/uploads/2024/08/RESERVED-TRACK-2.jpg
END:VEVENT
BEGIN:VEVENT
DTSTART;TZID=UTC:20240927T160000
DTEND;TZID=UTC:20240927T190000
DTSTAMP:20260419T212704
CREATED:20241101T142547Z
LAST-MODIFIED:20241101T142547Z
UID:10001330-1727452800-1727463600@happyvalleykart.com
SUMMARY:NOLEGGIO KART
DESCRIPTION:
URL:https://happyvalleykart.com/event/noleggio-kart-6/2024-09-27/
LOCATION:Kartodromo Happy Valley\, S.S. 16 Romea Sud 74\, Cervia\, Italia\, 48015\, Italia
CATEGORIES:Noleggio Kart
END:VEVENT
BEGIN:VEVENT
DTSTART;TZID=UTC:20240923T080000
DTEND;TZID=UTC:20240923T233000
DTSTAMP:20260419T212704
CREATED:20240809T111834Z
LAST-MODIFIED:20240921T132917Z
UID:10000847-1727078400-1727134200@happyvalleykart.com
SUMMARY:CHIUSURA
DESCRIPTION:
URL:https://happyvalleykart.com/event/chiusura/2024-09-23/
LOCATION:Kartodromo Happy Valley\, S.S. 16 Romea Sud 74\, Cervia\, Italia\, 48015\, Italia
CATEGORIES:Noleggio Kart,Orari
END:VEVENT
BEGIN:VEVENT
DTSTART;TZID=UTC:20240922T160000
DTEND;TZID=UTC:20240922T200000
DTSTAMP:20260419T212704
CREATED:20240809T115039Z
LAST-MODIFIED:20240830T192812Z
UID:10000855-1727020800-1727035200@happyvalleykart.com
SUMMARY:Noleggio Kart Pomeriggio Continuato
DESCRIPTION:
URL:https://happyvalleykart.com/event/noleggio-kart-pomeriggio-continuato/2024-09-22/
LOCATION:Kartodromo Happy Valley\, S.S. 16 Romea Sud 74\, Cervia\, Italia\, 48015\, Italia
CATEGORIES:Noleggio Kart
END:VEVENT
BEGIN:VEVENT
DTSTART;TZID=UTC:20240922T160000
DTEND;TZID=UTC:20240922T190000
DTSTAMP:20260419T212704
CREATED:20241101T142547Z
LAST-MODIFIED:20241101T142547Z
UID:10001329-1727020800-1727031600@happyvalleykart.com
SUMMARY:NOLEGGIO KART
DESCRIPTION:
URL:https://happyvalleykart.com/event/noleggio-kart-6/2024-09-22/
LOCATION:Kartodromo Happy Valley\, S.S. 16 Romea Sud 74\, Cervia\, Italia\, 48015\, Italia
CATEGORIES:Noleggio Kart
END:VEVENT
BEGIN:VEVENT
DTSTART;TZID=UTC:20240922T090000
DTEND;TZID=UTC:20240922T160000
DTSTAMP:20260419T212704
CREATED:20241023T082438Z
LAST-MODIFIED:20250110T144721Z
UID:10001084-1726995600-1727020800@happyvalleykart.com
SUMMARY:Libere Kart Privati 2024
DESCRIPTION:Alle prove libere si accede prenotando telefonicamente al 351 7374427 oppure al 0544 987304 (no e-mail\, no messaggi\,no whats app). Le prenotazioni sono aperte dal martedì al venerdì dalle 15 alle 19 antecedenti al week-end scelto.
URL:https://happyvalleykart.com/event/libere-kart-privati/2024-09-22/
LOCATION:Kartodromo Happy Valley\, S.S. 16 Romea Sud 74\, Cervia\, Italia\, 48015\, Italia
CATEGORIES:Orari,Prove libere Kart/Moto di proprietà
ATTACH;FMTTYPE=image/jpeg:https://happyvalleykart.com/wp-content/uploads/2024/03/kart-proprieta.jpeg
END:VEVENT
BEGIN:VEVENT
DTSTART;TZID=UTC:20240921T160000
DTEND;TZID=UTC:20240921T200000
DTSTAMP:20260419T212704
CREATED:20240914T165529Z
LAST-MODIFIED:20240914T165554Z
UID:10000856-1726934400-1726948800@happyvalleykart.com
SUMMARY:Noleggio Kart Pomeriggio Continuato
DESCRIPTION:
URL:https://happyvalleykart.com/event/noleggio-kart-pomeriggio-continuato-2/
LOCATION:Kartodromo Happy Valley\, S.S. 16 Romea Sud 74\, Cervia\, Italia\, 48015\, Italia
CATEGORIES:Noleggio Kart
END:VEVENT
END:VCALENDAR