BEGIN:VCALENDAR
VERSION:2.0
PRODID:-//Happy Valley - ECPv6.15.17//NONSGML v1.0//EN
CALSCALE:GREGORIAN
METHOD:PUBLISH
X-WR-CALNAME:Happy Valley
X-ORIGINAL-URL:https://happyvalleykart.com
X-WR-CALDESC:Eventi per Happy Valley
REFRESH-INTERVAL;VALUE=DURATION:PT1H
X-Robots-Tag:noindex
X-PUBLISHED-TTL:PT1H
BEGIN:VTIMEZONE
TZID:UTC
BEGIN:STANDARD
TZOFFSETFROM:+0000
TZOFFSETTO:+0000
TZNAME:UTC
DTSTART:20230101T000000
END:STANDARD
END:VTIMEZONE
BEGIN:VEVENT
DTSTART;TZID=UTC:20240613T203000
DTEND;TZID=UTC:20240613T223000
DTSTAMP:20260421T073148
CREATED:20240606T181513Z
LAST-MODIFIED:20240606T181513Z
UID:10000108-1718310600-1718317800@happyvalleykart.com
SUMMARY:Noleggio Kart
DESCRIPTION:
URL:https://happyvalleykart.com/event/noleggio-kart/2024-06-13/2/
LOCATION:Kartodromo Happy Valley\, S.S. 16 Romea Sud 74\, Cervia\, Italia\, 48015\, Italia
CATEGORIES:Orari
END:VEVENT
BEGIN:VEVENT
DTSTART;TZID=UTC:20240613T160000
DTEND;TZID=UTC:20240613T190000
DTSTAMP:20260421T073148
CREATED:20240606T181513Z
LAST-MODIFIED:20240606T181513Z
UID:10000107-1718294400-1718305200@happyvalleykart.com
SUMMARY:Noleggio Kart
DESCRIPTION:
URL:https://happyvalleykart.com/event/noleggio-kart/2024-06-13/1/
LOCATION:Kartodromo Happy Valley\, S.S. 16 Romea Sud 74\, Cervia\, Italia\, 48015\, Italia
CATEGORIES:Orari
END:VEVENT
BEGIN:VEVENT
DTSTART;TZID=UTC:20240612T203000
DTEND;TZID=UTC:20240612T223000
DTSTAMP:20260421T073148
CREATED:20240606T181513Z
LAST-MODIFIED:20240606T181513Z
UID:10000106-1718224200-1718231400@happyvalleykart.com
SUMMARY:Noleggio Kart
DESCRIPTION:
URL:https://happyvalleykart.com/event/noleggio-kart/2024-06-12/2/
LOCATION:Kartodromo Happy Valley\, S.S. 16 Romea Sud 74\, Cervia\, Italia\, 48015\, Italia
CATEGORIES:Orari
END:VEVENT
BEGIN:VEVENT
DTSTART;TZID=UTC:20240612T160000
DTEND;TZID=UTC:20240612T190000
DTSTAMP:20260421T073148
CREATED:20240606T181513Z
LAST-MODIFIED:20240606T181513Z
UID:10000105-1718208000-1718218800@happyvalleykart.com
SUMMARY:Noleggio Kart
DESCRIPTION:
URL:https://happyvalleykart.com/event/noleggio-kart/2024-06-12/1/
LOCATION:Kartodromo Happy Valley\, S.S. 16 Romea Sud 74\, Cervia\, Italia\, 48015\, Italia
CATEGORIES:Orari
END:VEVENT
BEGIN:VEVENT
DTSTART;TZID=UTC:20240611T203000
DTEND;TZID=UTC:20240611T223000
DTSTAMP:20260421T073148
CREATED:20240606T181513Z
LAST-MODIFIED:20240606T181513Z
UID:10000104-1718137800-1718145000@happyvalleykart.com
SUMMARY:Noleggio Kart
DESCRIPTION:
URL:https://happyvalleykart.com/event/noleggio-kart/2024-06-11/2/
LOCATION:Kartodromo Happy Valley\, S.S. 16 Romea Sud 74\, Cervia\, Italia\, 48015\, Italia
CATEGORIES:Orari
END:VEVENT
BEGIN:VEVENT
DTSTART;TZID=UTC:20240611T160000
DTEND;TZID=UTC:20240611T190000
DTSTAMP:20260421T073148
CREATED:20240606T181513Z
LAST-MODIFIED:20240606T181513Z
UID:10000103-1718121600-1718132400@happyvalleykart.com
SUMMARY:Noleggio Kart
DESCRIPTION:
URL:https://happyvalleykart.com/event/noleggio-kart/2024-06-11/1/
LOCATION:Kartodromo Happy Valley\, S.S. 16 Romea Sud 74\, Cervia\, Italia\, 48015\, Italia
CATEGORIES:Orari
END:VEVENT
BEGIN:VEVENT
DTSTART;VALUE=DATE:20240609
DTEND;VALUE=DATE:20240610
DTSTAMP:20260421T073148
CREATED:20240604T201147Z
LAST-MODIFIED:20240718T135543Z
UID:10000058-1717891200-1717977599@happyvalleykart.com
SUMMARY:5° PROVA EASY KART TROPHY
DESCRIPTION:
URL:https://happyvalleykart.com/event/5-prova-easy-kart-trophy/
LOCATION:Kartodromo Happy Valley\, S.S. 16 Romea Sud 74\, Cervia\, Italia\, 48015\, Italia
CATEGORIES:Eventi
ATTACH;FMTTYPE=image/jpeg:https://happyvalleykart.com/wp-content/uploads/2024/06/A10G3797-scaled.jpg
END:VEVENT
BEGIN:VEVENT
DTSTART;TZID=UTC:20240607T203000
DTEND;TZID=UTC:20240607T220000
DTSTAMP:20260421T073148
CREATED:20240606T181513Z
LAST-MODIFIED:20240606T181513Z
UID:10000102-1717792200-1717797600@happyvalleykart.com
SUMMARY:Noleggio Kart
DESCRIPTION:
URL:https://happyvalleykart.com/event/noleggio-kart/2024-06-07/2/
LOCATION:Kartodromo Happy Valley\, S.S. 16 Romea Sud 74\, Cervia\, Italia\, 48015\, Italia
CATEGORIES:Orari
END:VEVENT
BEGIN:VEVENT
DTSTART;TZID=UTC:20240607T160000
DTEND;TZID=UTC:20240607T190000
DTSTAMP:20260421T073148
CREATED:20240606T181513Z
LAST-MODIFIED:20240606T181513Z
UID:10000101-1717776000-1717786800@happyvalleykart.com
SUMMARY:Noleggio Kart
DESCRIPTION:
URL:https://happyvalleykart.com/event/noleggio-kart/2024-06-07/1/
LOCATION:Kartodromo Happy Valley\, S.S. 16 Romea Sud 74\, Cervia\, Italia\, 48015\, Italia
CATEGORIES:Orari
END:VEVENT
BEGIN:VEVENT
DTSTART;TZID=UTC:20240607T090000
DTEND;TZID=UTC:20240607T160000
DTSTAMP:20260421T073148
CREATED:20240606T182541Z
LAST-MODIFIED:20240606T182541Z
UID:10000139-1717750800-1717776000@happyvalleykart.com
SUMMARY:Libere Kart - Easy Kart
DESCRIPTION:
URL:https://happyvalleykart.com/event/libere-kart-easy-kart/
LOCATION:Kartodromo Happy Valley\, S.S. 16 Romea Sud 74\, Cervia\, Italia\, 48015\, Italia
CATEGORIES:Orari
END:VEVENT
BEGIN:VEVENT
DTSTART;TZID=UTC:20240606T203000
DTEND;TZID=UTC:20240606T220000
DTSTAMP:20260421T073148
CREATED:20240606T181513Z
LAST-MODIFIED:20240606T181513Z
UID:10000100-1717705800-1717711200@happyvalleykart.com
SUMMARY:Noleggio Kart
DESCRIPTION:
URL:https://happyvalleykart.com/event/noleggio-kart/2024-06-06/2/
LOCATION:Kartodromo Happy Valley\, S.S. 16 Romea Sud 74\, Cervia\, Italia\, 48015\, Italia
CATEGORIES:Orari
END:VEVENT
BEGIN:VEVENT
DTSTART;TZID=UTC:20240606T160000
DTEND;TZID=UTC:20240606T190000
DTSTAMP:20260421T073148
CREATED:20240606T181513Z
LAST-MODIFIED:20240606T181513Z
UID:10000099-1717689600-1717700400@happyvalleykart.com
SUMMARY:Noleggio Kart
DESCRIPTION:
URL:https://happyvalleykart.com/event/noleggio-kart/2024-06-06/1/
LOCATION:Kartodromo Happy Valley\, S.S. 16 Romea Sud 74\, Cervia\, Italia\, 48015\, Italia
CATEGORIES:Orari
END:VEVENT
BEGIN:VEVENT
DTSTART;TZID=UTC:20240605T203000
DTEND;TZID=UTC:20240605T220000
DTSTAMP:20260421T073148
CREATED:20240606T181513Z
LAST-MODIFIED:20240606T181513Z
UID:10000098-1717619400-1717624800@happyvalleykart.com
SUMMARY:Noleggio Kart
DESCRIPTION:
URL:https://happyvalleykart.com/event/noleggio-kart/2024-06-05/2/
LOCATION:Kartodromo Happy Valley\, S.S. 16 Romea Sud 74\, Cervia\, Italia\, 48015\, Italia
CATEGORIES:Orari
END:VEVENT
BEGIN:VEVENT
DTSTART;TZID=UTC:20240605T160000
DTEND;TZID=UTC:20240605T190000
DTSTAMP:20260421T073148
CREATED:20240606T181513Z
LAST-MODIFIED:20240606T181513Z
UID:10000097-1717603200-1717614000@happyvalleykart.com
SUMMARY:Noleggio Kart
DESCRIPTION:
URL:https://happyvalleykart.com/event/noleggio-kart/2024-06-05/1/
LOCATION:Kartodromo Happy Valley\, S.S. 16 Romea Sud 74\, Cervia\, Italia\, 48015\, Italia
CATEGORIES:Orari
END:VEVENT
BEGIN:VEVENT
DTSTART;TZID=UTC:20240604T203000
DTEND;TZID=UTC:20240604T220000
DTSTAMP:20260421T073148
CREATED:20240606T181513Z
LAST-MODIFIED:20240606T181513Z
UID:10000096-1717533000-1717538400@happyvalleykart.com
SUMMARY:Noleggio Kart
DESCRIPTION:
URL:https://happyvalleykart.com/event/noleggio-kart/2024-06-04/2/
LOCATION:Kartodromo Happy Valley\, S.S. 16 Romea Sud 74\, Cervia\, Italia\, 48015\, Italia
CATEGORIES:Orari
END:VEVENT
BEGIN:VEVENT
DTSTART;TZID=UTC:20240604T160000
DTEND;TZID=UTC:20240604T190000
DTSTAMP:20260421T073148
CREATED:20240606T181513Z
LAST-MODIFIED:20240606T181513Z
UID:10000095-1717516800-1717527600@happyvalleykart.com
SUMMARY:Noleggio Kart
DESCRIPTION:
URL:https://happyvalleykart.com/event/noleggio-kart/2024-06-04/1/
LOCATION:Kartodromo Happy Valley\, S.S. 16 Romea Sud 74\, Cervia\, Italia\, 48015\, Italia
CATEGORIES:Orari
END:VEVENT
BEGIN:VEVENT
DTSTART;TZID=UTC:20240602T160000
DTEND;TZID=UTC:20240602T203000
DTSTAMP:20260421T073148
CREATED:20240606T181513Z
LAST-MODIFIED:20240606T181513Z
UID:10000094-1717344000-1717360200@happyvalleykart.com
SUMMARY:Noleggio Kart
DESCRIPTION:
URL:https://happyvalleykart.com/event/noleggio-kart/2024-06-02/
LOCATION:Kartodromo Happy Valley\, S.S. 16 Romea Sud 74\, Cervia\, Italia\, 48015\, Italia
CATEGORIES:Orari
END:VEVENT
BEGIN:VEVENT
DTSTART;TZID=UTC:20240602T090000
DTEND;TZID=UTC:20240602T160000
DTSTAMP:20260421T073148
CREATED:20240606T163539Z
LAST-MODIFIED:20240606T182412Z
UID:10000091-1717318800-1717344000@happyvalleykart.com
SUMMARY:Libere Kart
DESCRIPTION:
URL:https://happyvalleykart.com/event/libere-kart/2024-06-02/
LOCATION:Kartodromo Happy Valley\, S.S. 16 Romea Sud 74\, Cervia\, Italia\, 48015\, Italia
CATEGORIES:Orari
END:VEVENT
BEGIN:VEVENT
DTSTART;TZID=UTC:20240601T160000
DTEND;TZID=UTC:20240601T190000
DTSTAMP:20260421T073148
CREATED:20240606T181513Z
LAST-MODIFIED:20240606T181513Z
UID:10000093-1717257600-1717268400@happyvalleykart.com
SUMMARY:Noleggio Kart
DESCRIPTION:
URL:https://happyvalleykart.com/event/noleggio-kart/2024-06-01/
LOCATION:Kartodromo Happy Valley\, S.S. 16 Romea Sud 74\, Cervia\, Italia\, 48015\, Italia
CATEGORIES:Orari
END:VEVENT
BEGIN:VEVENT
DTSTART;TZID=UTC:20240601T090000
DTEND;TZID=UTC:20240601T160000
DTSTAMP:20260421T073148
CREATED:20240606T163539Z
LAST-MODIFIED:20240606T182412Z
UID:10000138-1717232400-1717257600@happyvalleykart.com
SUMMARY:Libere Kart
DESCRIPTION:
URL:https://happyvalleykart.com/event/libere-kart/2024-06-01/
LOCATION:Kartodromo Happy Valley\, S.S. 16 Romea Sud 74\, Cervia\, Italia\, 48015\, Italia
CATEGORIES:Orari
END:VEVENT
BEGIN:VEVENT
DTSTART;VALUE=DATE:20240505
DTEND;VALUE=DATE:20240506
DTSTAMP:20260421T073148
CREATED:20240604T201056Z
LAST-MODIFIED:20240718T135346Z
UID:10000057-1714867200-1714953599@happyvalleykart.com
SUMMARY:3° PROVA BRIGG’S & STRATTON KART CHAMPIONSHIP
DESCRIPTION:
URL:https://happyvalleykart.com/event/3-prova-briggs-stratton-kart-championship/
LOCATION:Kartodromo Happy Valley\, S.S. 16 Romea Sud 74\, Cervia\, Italia\, 48015\, Italia
CATEGORIES:Eventi
ATTACH;FMTTYPE=image/jpeg:https://happyvalleykart.com/wp-content/uploads/2024/06/441066463_1034705618216938_4232602164607796607_n.jpg
END:VEVENT
BEGIN:VEVENT
DTSTART;VALUE=DATE:20240419
DTEND;VALUE=DATE:20240422
DTSTAMP:20260421T073148
CREATED:20240604T201029Z
LAST-MODIFIED:20240718T135715Z
UID:10000056-1713484800-1713743999@happyvalleykart.com
SUMMARY:CAMPIONATO ITALIANO MINIMOTO
DESCRIPTION:
URL:https://happyvalleykart.com/event/campionato-italiano-minimoto/
LOCATION:Kartodromo Happy Valley\, S.S. 16 Romea Sud 74\, Cervia\, Italia\, 48015\, Italia
CATEGORIES:Eventi
ATTACH;FMTTYPE=image/jpeg:https://happyvalleykart.com/wp-content/uploads/2024/06/Matteo-Cianciosi-PH24-4605-scaled.jpg
END:VEVENT
BEGIN:VEVENT
DTSTART;VALUE=DATE:20240407
DTEND;VALUE=DATE:20240408
DTSTAMP:20260421T073148
CREATED:20240604T200955Z
LAST-MODIFIED:20240718T135812Z
UID:10000055-1712448000-1712534399@happyvalleykart.com
SUMMARY:2° PROVA COPPA ITALIA DI ZONA KART
DESCRIPTION:
URL:https://happyvalleykart.com/event/2-prova-coppa-italia-di-zona-kart/
LOCATION:Kartodromo Happy Valley\, S.S. 16 Romea Sud 74\, Cervia\, Italia\, 48015\, Italia
CATEGORIES:Eventi
ATTACH;FMTTYPE=image/jpeg:https://happyvalleykart.com/wp-content/uploads/2024/04/happy-valley-galleria5.jpg
END:VEVENT
BEGIN:VEVENT
DTSTART;VALUE=DATE:20240322
DTEND;VALUE=DATE:20240325
DTSTAMP:20260421T073148
CREATED:20240604T200910Z
LAST-MODIFIED:20240605T185422Z
UID:10000054-1711065600-1711324799@happyvalleykart.com
SUMMARY:CAMPIONATO INTERREGIONALE MINIMOTO
DESCRIPTION:TROFEO SIMONCELLI
URL:https://happyvalleykart.com/event/campionato-interregionale-minimoto/
LOCATION:Kartodromo Happy Valley\, S.S. 16 Romea Sud 74\, Cervia\, Italia\, 48015\, Italia
CATEGORIES:Eventi
ATTACH;FMTTYPE=image/jpeg:https://happyvalleykart.com/wp-content/uploads/2024/03/IMG_5455.jpg
END:VEVENT
END:VCALENDAR