BEGIN:VCALENDAR
VERSION:2.0
PRODID:-//Happy Valley - ECPv6.15.17//NONSGML v1.0//EN
CALSCALE:GREGORIAN
METHOD:PUBLISH
X-WR-CALNAME:Happy Valley
X-ORIGINAL-URL:https://happyvalleykart.com
X-WR-CALDESC:Eventi per Happy Valley
REFRESH-INTERVAL;VALUE=DURATION:PT1H
X-Robots-Tag:noindex
X-PUBLISHED-TTL:PT1H
BEGIN:VTIMEZONE
TZID:UTC
BEGIN:STANDARD
TZOFFSETFROM:+0000
TZOFFSETTO:+0000
TZNAME:UTC
DTSTART:20230101T000000
END:STANDARD
END:VTIMEZONE
BEGIN:VEVENT
DTSTART;TZID=UTC:20240626T160000
DTEND;TZID=UTC:20240626T190000
DTSTAMP:20260421T073059
CREATED:20240606T181513Z
LAST-MODIFIED:20240606T181513Z
UID:10000127-1719417600-1719428400@happyvalleykart.com
SUMMARY:Noleggio Kart
DESCRIPTION:
URL:https://happyvalleykart.com/event/noleggio-kart/2024-06-26/1/
LOCATION:Kartodromo Happy Valley\, S.S. 16 Romea Sud 74\, Cervia\, Italia\, 48015\, Italia
CATEGORIES:Orari
END:VEVENT
BEGIN:VEVENT
DTSTART;TZID=UTC:20240625T203000
DTEND;TZID=UTC:20240625T223000
DTSTAMP:20260421T073059
CREATED:20240606T181513Z
LAST-MODIFIED:20240606T181513Z
UID:10000126-1719347400-1719354600@happyvalleykart.com
SUMMARY:Noleggio Kart
DESCRIPTION:
URL:https://happyvalleykart.com/event/noleggio-kart/2024-06-25/2/
LOCATION:Kartodromo Happy Valley\, S.S. 16 Romea Sud 74\, Cervia\, Italia\, 48015\, Italia
CATEGORIES:Orari
END:VEVENT
BEGIN:VEVENT
DTSTART;TZID=UTC:20240625T160000
DTEND;TZID=UTC:20240625T190000
DTSTAMP:20260421T073059
CREATED:20240606T181513Z
LAST-MODIFIED:20240606T181513Z
UID:10000125-1719331200-1719342000@happyvalleykart.com
SUMMARY:Noleggio Kart
DESCRIPTION:
URL:https://happyvalleykart.com/event/noleggio-kart/2024-06-25/1/
LOCATION:Kartodromo Happy Valley\, S.S. 16 Romea Sud 74\, Cervia\, Italia\, 48015\, Italia
CATEGORIES:Orari
END:VEVENT
BEGIN:VEVENT
DTSTART;TZID=UTC:20240623T170000
DTEND;TZID=UTC:20240623T203000
DTSTAMP:20260421T073059
CREATED:20240606T181513Z
LAST-MODIFIED:20240606T181513Z
UID:10000124-1719162000-1719174600@happyvalleykart.com
SUMMARY:Noleggio Kart
DESCRIPTION:
URL:https://happyvalleykart.com/event/noleggio-kart/2024-06-23/
LOCATION:Kartodromo Happy Valley\, S.S. 16 Romea Sud 74\, Cervia\, Italia\, 48015\, Italia
CATEGORIES:Orari
END:VEVENT
BEGIN:VEVENT
DTSTART;TZID=UTC:20240622T203000
DTEND;TZID=UTC:20240622T223000
DTSTAMP:20260421T073059
CREATED:20240606T181513Z
LAST-MODIFIED:20240606T181513Z
UID:10000123-1719088200-1719095400@happyvalleykart.com
SUMMARY:Noleggio Kart
DESCRIPTION:
URL:https://happyvalleykart.com/event/noleggio-kart/2024-06-22/2/
LOCATION:Kartodromo Happy Valley\, S.S. 16 Romea Sud 74\, Cervia\, Italia\, 48015\, Italia
CATEGORIES:Orari
END:VEVENT
BEGIN:VEVENT
DTSTART;TZID=UTC:20240622T160000
DTEND;TZID=UTC:20240622T190000
DTSTAMP:20260421T073059
CREATED:20240606T181513Z
LAST-MODIFIED:20240606T181513Z
UID:10000122-1719072000-1719082800@happyvalleykart.com
SUMMARY:Noleggio Kart
DESCRIPTION:
URL:https://happyvalleykart.com/event/noleggio-kart/2024-06-22/1/
LOCATION:Kartodromo Happy Valley\, S.S. 16 Romea Sud 74\, Cervia\, Italia\, 48015\, Italia
CATEGORIES:Orari
END:VEVENT
BEGIN:VEVENT
DTSTART;TZID=UTC:20240622T100000
DTEND;TZID=UTC:20240622T123000
DTSTAMP:20260421T073059
CREATED:20240606T162829Z
LAST-MODIFIED:20240606T162959Z
UID:10000087-1719050400-1719059400@happyvalleykart.com
SUMMARY:Noleggio Kart (bimbi 6-13 anni)
DESCRIPTION:
URL:https://happyvalleykart.com/event/noleggio-kart-bimbi-6-13-anni/2024-06-22/
LOCATION:Kartodromo Happy Valley\, S.S. 16 Romea Sud 74\, Cervia\, Italia\, 48015\, Italia
CATEGORIES:Orari
END:VEVENT
BEGIN:VEVENT
DTSTART;TZID=UTC:20240621T203000
DTEND;TZID=UTC:20240621T223000
DTSTAMP:20260421T073059
CREATED:20240606T181513Z
LAST-MODIFIED:20240606T181513Z
UID:10000121-1719001800-1719009000@happyvalleykart.com
SUMMARY:Noleggio Kart
DESCRIPTION:
URL:https://happyvalleykart.com/event/noleggio-kart/2024-06-21/2/
LOCATION:Kartodromo Happy Valley\, S.S. 16 Romea Sud 74\, Cervia\, Italia\, 48015\, Italia
CATEGORIES:Orari
END:VEVENT
BEGIN:VEVENT
DTSTART;TZID=UTC:20240621T160000
DTEND;TZID=UTC:20240621T190000
DTSTAMP:20260421T073059
CREATED:20240606T181513Z
LAST-MODIFIED:20240606T181513Z
UID:10000120-1718985600-1718996400@happyvalleykart.com
SUMMARY:Noleggio Kart
DESCRIPTION:
URL:https://happyvalleykart.com/event/noleggio-kart/2024-06-21/1/
LOCATION:Kartodromo Happy Valley\, S.S. 16 Romea Sud 74\, Cervia\, Italia\, 48015\, Italia
CATEGORIES:Orari
END:VEVENT
BEGIN:VEVENT
DTSTART;TZID=UTC:20240620T203000
DTEND;TZID=UTC:20240620T223000
DTSTAMP:20260421T073059
CREATED:20240606T181513Z
LAST-MODIFIED:20240606T181513Z
UID:10000119-1718915400-1718922600@happyvalleykart.com
SUMMARY:Noleggio Kart
DESCRIPTION:
URL:https://happyvalleykart.com/event/noleggio-kart/2024-06-20/2/
LOCATION:Kartodromo Happy Valley\, S.S. 16 Romea Sud 74\, Cervia\, Italia\, 48015\, Italia
CATEGORIES:Orari
END:VEVENT
BEGIN:VEVENT
DTSTART;TZID=UTC:20240620T160000
DTEND;TZID=UTC:20240620T190000
DTSTAMP:20260421T073059
CREATED:20240606T181513Z
LAST-MODIFIED:20240606T181513Z
UID:10000118-1718899200-1718910000@happyvalleykart.com
SUMMARY:Noleggio Kart
DESCRIPTION:
URL:https://happyvalleykart.com/event/noleggio-kart/2024-06-20/1/
LOCATION:Kartodromo Happy Valley\, S.S. 16 Romea Sud 74\, Cervia\, Italia\, 48015\, Italia
CATEGORIES:Orari
END:VEVENT
BEGIN:VEVENT
DTSTART;TZID=UTC:20240619T203000
DTEND;TZID=UTC:20240619T223000
DTSTAMP:20260421T073059
CREATED:20240606T181513Z
LAST-MODIFIED:20240606T181513Z
UID:10000117-1718829000-1718836200@happyvalleykart.com
SUMMARY:Noleggio Kart
DESCRIPTION:
URL:https://happyvalleykart.com/event/noleggio-kart/2024-06-19/2/
LOCATION:Kartodromo Happy Valley\, S.S. 16 Romea Sud 74\, Cervia\, Italia\, 48015\, Italia
CATEGORIES:Orari
END:VEVENT
BEGIN:VEVENT
DTSTART;TZID=UTC:20240619T160000
DTEND;TZID=UTC:20240619T190000
DTSTAMP:20260421T073059
CREATED:20240606T181513Z
LAST-MODIFIED:20240606T181513Z
UID:10000116-1718812800-1718823600@happyvalleykart.com
SUMMARY:Noleggio Kart
DESCRIPTION:
URL:https://happyvalleykart.com/event/noleggio-kart/2024-06-19/1/
LOCATION:Kartodromo Happy Valley\, S.S. 16 Romea Sud 74\, Cervia\, Italia\, 48015\, Italia
CATEGORIES:Orari
END:VEVENT
BEGIN:VEVENT
DTSTART;TZID=UTC:20240618T203000
DTEND;TZID=UTC:20240618T223000
DTSTAMP:20260421T073059
CREATED:20240606T181513Z
LAST-MODIFIED:20240606T181513Z
UID:10000115-1718742600-1718749800@happyvalleykart.com
SUMMARY:Noleggio Kart
DESCRIPTION:
URL:https://happyvalleykart.com/event/noleggio-kart/2024-06-18/2/
LOCATION:Kartodromo Happy Valley\, S.S. 16 Romea Sud 74\, Cervia\, Italia\, 48015\, Italia
CATEGORIES:Orari
END:VEVENT
BEGIN:VEVENT
DTSTART;TZID=UTC:20240618T160000
DTEND;TZID=UTC:20240618T190000
DTSTAMP:20260421T073059
CREATED:20240606T181513Z
LAST-MODIFIED:20240606T181513Z
UID:10000114-1718726400-1718737200@happyvalleykart.com
SUMMARY:Noleggio Kart
DESCRIPTION:
URL:https://happyvalleykart.com/event/noleggio-kart/2024-06-18/1/
LOCATION:Kartodromo Happy Valley\, S.S. 16 Romea Sud 74\, Cervia\, Italia\, 48015\, Italia
CATEGORIES:Orari
END:VEVENT
BEGIN:VEVENT
DTSTART;TZID=UTC:20240616T160000
DTEND;TZID=UTC:20240616T203000
DTSTAMP:20260421T073059
CREATED:20240606T181513Z
LAST-MODIFIED:20240606T181513Z
UID:10000113-1718553600-1718569800@happyvalleykart.com
SUMMARY:Noleggio Kart
DESCRIPTION:
URL:https://happyvalleykart.com/event/noleggio-kart/2024-06-16/
LOCATION:Kartodromo Happy Valley\, S.S. 16 Romea Sud 74\, Cervia\, Italia\, 48015\, Italia
CATEGORIES:Orari
END:VEVENT
BEGIN:VEVENT
DTSTART;TZID=UTC:20240616T090000
DTEND;TZID=UTC:20240616T160000
DTSTAMP:20260421T073059
CREATED:20240606T163539Z
LAST-MODIFIED:20240606T182412Z
UID:10000092-1718528400-1718553600@happyvalleykart.com
SUMMARY:Libere Kart
DESCRIPTION:
URL:https://happyvalleykart.com/event/libere-kart/2024-06-16/
LOCATION:Kartodromo Happy Valley\, S.S. 16 Romea Sud 74\, Cervia\, Italia\, 48015\, Italia
CATEGORIES:Orari
END:VEVENT
BEGIN:VEVENT
DTSTART;TZID=UTC:20240615T203000
DTEND;TZID=UTC:20240615T223000
DTSTAMP:20260421T073059
CREATED:20240606T181513Z
LAST-MODIFIED:20240606T181513Z
UID:10000112-1718483400-1718490600@happyvalleykart.com
SUMMARY:Noleggio Kart
DESCRIPTION:
URL:https://happyvalleykart.com/event/noleggio-kart/2024-06-15/2/
LOCATION:Kartodromo Happy Valley\, S.S. 16 Romea Sud 74\, Cervia\, Italia\, 48015\, Italia
CATEGORIES:Orari
END:VEVENT
BEGIN:VEVENT
DTSTART;TZID=UTC:20240615T160000
DTEND;TZID=UTC:20240615T190000
DTSTAMP:20260421T073059
CREATED:20240606T181513Z
LAST-MODIFIED:20240606T181513Z
UID:10000111-1718467200-1718478000@happyvalleykart.com
SUMMARY:Noleggio Kart
DESCRIPTION:
URL:https://happyvalleykart.com/event/noleggio-kart/2024-06-15/1/
LOCATION:Kartodromo Happy Valley\, S.S. 16 Romea Sud 74\, Cervia\, Italia\, 48015\, Italia
CATEGORIES:Orari
END:VEVENT
BEGIN:VEVENT
DTSTART;TZID=UTC:20240615T100000
DTEND;TZID=UTC:20240615T123000
DTSTAMP:20260421T073059
CREATED:20240606T162829Z
LAST-MODIFIED:20240606T162959Z
UID:10000086-1718445600-1718454600@happyvalleykart.com
SUMMARY:Noleggio Kart (bimbi 6-13 anni)
DESCRIPTION:
URL:https://happyvalleykart.com/event/noleggio-kart-bimbi-6-13-anni/2024-06-15/
LOCATION:Kartodromo Happy Valley\, S.S. 16 Romea Sud 74\, Cervia\, Italia\, 48015\, Italia
CATEGORIES:Orari
END:VEVENT
BEGIN:VEVENT
DTSTART;TZID=UTC:20240614T203000
DTEND;TZID=UTC:20240614T223000
DTSTAMP:20260421T073059
CREATED:20240606T181513Z
LAST-MODIFIED:20240606T181513Z
UID:10000110-1718397000-1718404200@happyvalleykart.com
SUMMARY:Noleggio Kart
DESCRIPTION:
URL:https://happyvalleykart.com/event/noleggio-kart/2024-06-14/2/
LOCATION:Kartodromo Happy Valley\, S.S. 16 Romea Sud 74\, Cervia\, Italia\, 48015\, Italia
CATEGORIES:Orari
END:VEVENT
BEGIN:VEVENT
DTSTART;TZID=UTC:20240614T160000
DTEND;TZID=UTC:20240614T190000
DTSTAMP:20260421T073059
CREATED:20240606T181513Z
LAST-MODIFIED:20240606T181513Z
UID:10000109-1718380800-1718391600@happyvalleykart.com
SUMMARY:Noleggio Kart
DESCRIPTION:
URL:https://happyvalleykart.com/event/noleggio-kart/2024-06-14/1/
LOCATION:Kartodromo Happy Valley\, S.S. 16 Romea Sud 74\, Cervia\, Italia\, 48015\, Italia
CATEGORIES:Orari
END:VEVENT
BEGIN:VEVENT
DTSTART;TZID=UTC:20240613T203000
DTEND;TZID=UTC:20240613T223000
DTSTAMP:20260421T073059
CREATED:20240606T181513Z
LAST-MODIFIED:20240606T181513Z
UID:10000108-1718310600-1718317800@happyvalleykart.com
SUMMARY:Noleggio Kart
DESCRIPTION:
URL:https://happyvalleykart.com/event/noleggio-kart/2024-06-13/2/
LOCATION:Kartodromo Happy Valley\, S.S. 16 Romea Sud 74\, Cervia\, Italia\, 48015\, Italia
CATEGORIES:Orari
END:VEVENT
BEGIN:VEVENT
DTSTART;TZID=UTC:20240613T160000
DTEND;TZID=UTC:20240613T190000
DTSTAMP:20260421T073059
CREATED:20240606T181513Z
LAST-MODIFIED:20240606T181513Z
UID:10000107-1718294400-1718305200@happyvalleykart.com
SUMMARY:Noleggio Kart
DESCRIPTION:
URL:https://happyvalleykart.com/event/noleggio-kart/2024-06-13/1/
LOCATION:Kartodromo Happy Valley\, S.S. 16 Romea Sud 74\, Cervia\, Italia\, 48015\, Italia
CATEGORIES:Orari
END:VEVENT
BEGIN:VEVENT
DTSTART;TZID=UTC:20240612T203000
DTEND;TZID=UTC:20240612T223000
DTSTAMP:20260421T073059
CREATED:20240606T181513Z
LAST-MODIFIED:20240606T181513Z
UID:10000106-1718224200-1718231400@happyvalleykart.com
SUMMARY:Noleggio Kart
DESCRIPTION:
URL:https://happyvalleykart.com/event/noleggio-kart/2024-06-12/2/
LOCATION:Kartodromo Happy Valley\, S.S. 16 Romea Sud 74\, Cervia\, Italia\, 48015\, Italia
CATEGORIES:Orari
END:VEVENT
BEGIN:VEVENT
DTSTART;TZID=UTC:20240612T160000
DTEND;TZID=UTC:20240612T190000
DTSTAMP:20260421T073059
CREATED:20240606T181513Z
LAST-MODIFIED:20240606T181513Z
UID:10000105-1718208000-1718218800@happyvalleykart.com
SUMMARY:Noleggio Kart
DESCRIPTION:
URL:https://happyvalleykart.com/event/noleggio-kart/2024-06-12/1/
LOCATION:Kartodromo Happy Valley\, S.S. 16 Romea Sud 74\, Cervia\, Italia\, 48015\, Italia
CATEGORIES:Orari
END:VEVENT
BEGIN:VEVENT
DTSTART;TZID=UTC:20240611T203000
DTEND;TZID=UTC:20240611T223000
DTSTAMP:20260421T073059
CREATED:20240606T181513Z
LAST-MODIFIED:20240606T181513Z
UID:10000104-1718137800-1718145000@happyvalleykart.com
SUMMARY:Noleggio Kart
DESCRIPTION:
URL:https://happyvalleykart.com/event/noleggio-kart/2024-06-11/2/
LOCATION:Kartodromo Happy Valley\, S.S. 16 Romea Sud 74\, Cervia\, Italia\, 48015\, Italia
CATEGORIES:Orari
END:VEVENT
BEGIN:VEVENT
DTSTART;TZID=UTC:20240611T160000
DTEND;TZID=UTC:20240611T190000
DTSTAMP:20260421T073059
CREATED:20240606T181513Z
LAST-MODIFIED:20240606T181513Z
UID:10000103-1718121600-1718132400@happyvalleykart.com
SUMMARY:Noleggio Kart
DESCRIPTION:
URL:https://happyvalleykart.com/event/noleggio-kart/2024-06-11/1/
LOCATION:Kartodromo Happy Valley\, S.S. 16 Romea Sud 74\, Cervia\, Italia\, 48015\, Italia
CATEGORIES:Orari
END:VEVENT
BEGIN:VEVENT
DTSTART;VALUE=DATE:20240609
DTEND;VALUE=DATE:20240610
DTSTAMP:20260421T073059
CREATED:20240604T201147Z
LAST-MODIFIED:20240718T135543Z
UID:10000058-1717891200-1717977599@happyvalleykart.com
SUMMARY:5° PROVA EASY KART TROPHY
DESCRIPTION:
URL:https://happyvalleykart.com/event/5-prova-easy-kart-trophy/
LOCATION:Kartodromo Happy Valley\, S.S. 16 Romea Sud 74\, Cervia\, Italia\, 48015\, Italia
CATEGORIES:Eventi
ATTACH;FMTTYPE=image/jpeg:https://happyvalleykart.com/wp-content/uploads/2024/06/A10G3797-scaled.jpg
END:VEVENT
BEGIN:VEVENT
DTSTART;TZID=UTC:20240607T203000
DTEND;TZID=UTC:20240607T220000
DTSTAMP:20260421T073059
CREATED:20240606T181513Z
LAST-MODIFIED:20240606T181513Z
UID:10000102-1717792200-1717797600@happyvalleykart.com
SUMMARY:Noleggio Kart
DESCRIPTION:
URL:https://happyvalleykart.com/event/noleggio-kart/2024-06-07/2/
LOCATION:Kartodromo Happy Valley\, S.S. 16 Romea Sud 74\, Cervia\, Italia\, 48015\, Italia
CATEGORIES:Orari
END:VEVENT
END:VCALENDAR