BEGIN:VCALENDAR
VERSION:2.0
PRODID:-//Happy Valley - ECPv6.15.17//NONSGML v1.0//EN
CALSCALE:GREGORIAN
METHOD:PUBLISH
X-WR-CALNAME:Happy Valley
X-ORIGINAL-URL:https://happyvalleykart.com
X-WR-CALDESC:Eventi per Happy Valley
REFRESH-INTERVAL;VALUE=DURATION:PT1H
X-Robots-Tag:noindex
X-PUBLISHED-TTL:PT1H
BEGIN:VTIMEZONE
TZID:UTC
BEGIN:STANDARD
TZOFFSETFROM:+0000
TZOFFSETTO:+0000
TZNAME:UTC
DTSTART:20230101T000000
END:STANDARD
END:VTIMEZONE
BEGIN:VEVENT
DTSTART;TZID=UTC:20240727T100000
DTEND;TZID=UTC:20240727T123000
DTSTAMP:20260420T170103
CREATED:20240701T195309Z
LAST-MODIFIED:20240718T134038Z
UID:10000217-1722074400-1722083400@happyvalleykart.com
SUMMARY:Noleggio Kart mattino per bimbi (6-13 anni)
DESCRIPTION:
URL:https://happyvalleykart.com/event/noleggio-kart-bimbi-6-13-anni-2/2024-07-27/
LOCATION:Kartodromo Happy Valley\, S.S. 16 Romea Sud 74\, Cervia\, Italia\, 48015\, Italia
CATEGORIES:Noleggio Kart
END:VEVENT
BEGIN:VEVENT
DTSTART;TZID=UTC:20240726T203000
DTEND;TZID=UTC:20240726T233000
DTSTAMP:20260420T170103
CREATED:20240701T193648Z
LAST-MODIFIED:20240702T095912Z
UID:10000231-1722025800-1722036600@happyvalleykart.com
SUMMARY:Noleggio Kart
DESCRIPTION:
URL:https://happyvalleykart.com/event/noleggio-kart-2/2024-07-26/2/
LOCATION:Kartodromo Happy Valley\, S.S. 16 Romea Sud 74\, Cervia\, Italia\, 48015\, Italia
CATEGORIES:Noleggio Kart
END:VEVENT
BEGIN:VEVENT
DTSTART;TZID=UTC:20240726T160000
DTEND;TZID=UTC:20240726T190000
DTSTAMP:20260420T170103
CREATED:20240701T193648Z
LAST-MODIFIED:20240702T095912Z
UID:10000230-1722009600-1722020400@happyvalleykart.com
SUMMARY:Noleggio Kart
DESCRIPTION:
URL:https://happyvalleykart.com/event/noleggio-kart-2/2024-07-26/1/
LOCATION:Kartodromo Happy Valley\, S.S. 16 Romea Sud 74\, Cervia\, Italia\, 48015\, Italia
CATEGORIES:Noleggio Kart
END:VEVENT
BEGIN:VEVENT
DTSTART;TZID=UTC:20240726T100000
DTEND;TZID=UTC:20240726T123000
DTSTAMP:20260420T170103
CREATED:20240701T195309Z
LAST-MODIFIED:20240718T134038Z
UID:10000216-1721988000-1721997000@happyvalleykart.com
SUMMARY:Noleggio Kart mattino per bimbi (6-13 anni)
DESCRIPTION:
URL:https://happyvalleykart.com/event/noleggio-kart-bimbi-6-13-anni-2/2024-07-26/
LOCATION:Kartodromo Happy Valley\, S.S. 16 Romea Sud 74\, Cervia\, Italia\, 48015\, Italia
CATEGORIES:Noleggio Kart
END:VEVENT
BEGIN:VEVENT
DTSTART;TZID=UTC:20240725T203000
DTEND;TZID=UTC:20240725T233000
DTSTAMP:20260420T170103
CREATED:20240701T193648Z
LAST-MODIFIED:20240702T095912Z
UID:10000183-1721939400-1721950200@happyvalleykart.com
SUMMARY:Noleggio Kart
DESCRIPTION:
URL:https://happyvalleykart.com/event/noleggio-kart-2/2024-07-25/2/
LOCATION:Kartodromo Happy Valley\, S.S. 16 Romea Sud 74\, Cervia\, Italia\, 48015\, Italia
CATEGORIES:Noleggio Kart
END:VEVENT
BEGIN:VEVENT
DTSTART;TZID=UTC:20240725T160000
DTEND;TZID=UTC:20240725T190000
DTSTAMP:20260420T170103
CREATED:20240701T193648Z
LAST-MODIFIED:20240702T095912Z
UID:10000182-1721923200-1721934000@happyvalleykart.com
SUMMARY:Noleggio Kart
DESCRIPTION:
URL:https://happyvalleykart.com/event/noleggio-kart-2/2024-07-25/1/
LOCATION:Kartodromo Happy Valley\, S.S. 16 Romea Sud 74\, Cervia\, Italia\, 48015\, Italia
CATEGORIES:Noleggio Kart
END:VEVENT
BEGIN:VEVENT
DTSTART;TZID=UTC:20240724T203000
DTEND;TZID=UTC:20240724T233000
DTSTAMP:20260420T170103
CREATED:20240701T193648Z
LAST-MODIFIED:20240702T095912Z
UID:10000181-1721853000-1721863800@happyvalleykart.com
SUMMARY:Noleggio Kart
DESCRIPTION:
URL:https://happyvalleykart.com/event/noleggio-kart-2/2024-07-24/2/
LOCATION:Kartodromo Happy Valley\, S.S. 16 Romea Sud 74\, Cervia\, Italia\, 48015\, Italia
CATEGORIES:Noleggio Kart
END:VEVENT
BEGIN:VEVENT
DTSTART;TZID=UTC:20240724T160000
DTEND;TZID=UTC:20240724T190000
DTSTAMP:20260420T170103
CREATED:20240701T193648Z
LAST-MODIFIED:20240702T095912Z
UID:10000180-1721836800-1721847600@happyvalleykart.com
SUMMARY:Noleggio Kart
DESCRIPTION:
URL:https://happyvalleykart.com/event/noleggio-kart-2/2024-07-24/1/
LOCATION:Kartodromo Happy Valley\, S.S. 16 Romea Sud 74\, Cervia\, Italia\, 48015\, Italia
CATEGORIES:Noleggio Kart
END:VEVENT
BEGIN:VEVENT
DTSTART;TZID=UTC:20240723T203000
DTEND;TZID=UTC:20240723T233000
DTSTAMP:20260420T170103
CREATED:20240701T193648Z
LAST-MODIFIED:20240702T095912Z
UID:10000179-1721766600-1721777400@happyvalleykart.com
SUMMARY:Noleggio Kart
DESCRIPTION:
URL:https://happyvalleykart.com/event/noleggio-kart-2/2024-07-23/2/
LOCATION:Kartodromo Happy Valley\, S.S. 16 Romea Sud 74\, Cervia\, Italia\, 48015\, Italia
CATEGORIES:Noleggio Kart
END:VEVENT
BEGIN:VEVENT
DTSTART;TZID=UTC:20240723T160000
DTEND;TZID=UTC:20240723T190000
DTSTAMP:20260420T170103
CREATED:20240701T193648Z
LAST-MODIFIED:20240702T095912Z
UID:10000178-1721750400-1721761200@happyvalleykart.com
SUMMARY:Noleggio Kart
DESCRIPTION:
URL:https://happyvalleykart.com/event/noleggio-kart-2/2024-07-23/1/
LOCATION:Kartodromo Happy Valley\, S.S. 16 Romea Sud 74\, Cervia\, Italia\, 48015\, Italia
CATEGORIES:Noleggio Kart
END:VEVENT
BEGIN:VEVENT
DTSTART;TZID=UTC:20240722T203000
DTEND;TZID=UTC:20240722T233000
DTSTAMP:20260420T170103
CREATED:20240701T193648Z
LAST-MODIFIED:20240702T095912Z
UID:10000177-1721680200-1721691000@happyvalleykart.com
SUMMARY:Noleggio Kart
DESCRIPTION:
URL:https://happyvalleykart.com/event/noleggio-kart-2/2024-07-22/2/
LOCATION:Kartodromo Happy Valley\, S.S. 16 Romea Sud 74\, Cervia\, Italia\, 48015\, Italia
CATEGORIES:Noleggio Kart
END:VEVENT
BEGIN:VEVENT
DTSTART;TZID=UTC:20240722T160000
DTEND;TZID=UTC:20240722T190000
DTSTAMP:20260420T170103
CREATED:20240701T193648Z
LAST-MODIFIED:20240702T095912Z
UID:10000176-1721664000-1721674800@happyvalleykart.com
SUMMARY:Noleggio Kart
DESCRIPTION:
URL:https://happyvalleykart.com/event/noleggio-kart-2/2024-07-22/1/
LOCATION:Kartodromo Happy Valley\, S.S. 16 Romea Sud 74\, Cervia\, Italia\, 48015\, Italia
CATEGORIES:Noleggio Kart
END:VEVENT
BEGIN:VEVENT
DTSTART;TZID=UTC:20240721T203000
DTEND;TZID=UTC:20240721T233000
DTSTAMP:20260420T170103
CREATED:20240701T193648Z
LAST-MODIFIED:20240702T095912Z
UID:10000175-1721593800-1721604600@happyvalleykart.com
SUMMARY:Noleggio Kart
DESCRIPTION:
URL:https://happyvalleykart.com/event/noleggio-kart-2/2024-07-21/2/
LOCATION:Kartodromo Happy Valley\, S.S. 16 Romea Sud 74\, Cervia\, Italia\, 48015\, Italia
CATEGORIES:Noleggio Kart
END:VEVENT
BEGIN:VEVENT
DTSTART;TZID=UTC:20240721T160000
DTEND;TZID=UTC:20240721T190000
DTSTAMP:20260420T170103
CREATED:20240701T193648Z
LAST-MODIFIED:20240702T095912Z
UID:10000174-1721577600-1721588400@happyvalleykart.com
SUMMARY:Noleggio Kart
DESCRIPTION:
URL:https://happyvalleykart.com/event/noleggio-kart-2/2024-07-21/1/
LOCATION:Kartodromo Happy Valley\, S.S. 16 Romea Sud 74\, Cervia\, Italia\, 48015\, Italia
CATEGORIES:Noleggio Kart
END:VEVENT
BEGIN:VEVENT
DTSTART;TZID=UTC:20240720T203000
DTEND;TZID=UTC:20240720T233000
DTSTAMP:20260420T170103
CREATED:20240701T193648Z
LAST-MODIFIED:20240702T095912Z
UID:10000229-1721507400-1721518200@happyvalleykart.com
SUMMARY:Noleggio Kart
DESCRIPTION:
URL:https://happyvalleykart.com/event/noleggio-kart-2/2024-07-20/2/
LOCATION:Kartodromo Happy Valley\, S.S. 16 Romea Sud 74\, Cervia\, Italia\, 48015\, Italia
CATEGORIES:Noleggio Kart
END:VEVENT
BEGIN:VEVENT
DTSTART;TZID=UTC:20240720T160000
DTEND;TZID=UTC:20240720T190000
DTSTAMP:20260420T170103
CREATED:20240701T193648Z
LAST-MODIFIED:20240702T095912Z
UID:10000228-1721491200-1721502000@happyvalleykart.com
SUMMARY:Noleggio Kart
DESCRIPTION:
URL:https://happyvalleykart.com/event/noleggio-kart-2/2024-07-20/1/
LOCATION:Kartodromo Happy Valley\, S.S. 16 Romea Sud 74\, Cervia\, Italia\, 48015\, Italia
CATEGORIES:Noleggio Kart
END:VEVENT
BEGIN:VEVENT
DTSTART;TZID=UTC:20240720T110000
DTEND;TZID=UTC:20240720T123000
DTSTAMP:20260420T170103
CREATED:20240701T195309Z
LAST-MODIFIED:20240718T134038Z
UID:10000215-1721473200-1721478600@happyvalleykart.com
SUMMARY:Noleggio Kart mattino per bimbi (6-13 anni)
DESCRIPTION:
URL:https://happyvalleykart.com/event/noleggio-kart-bimbi-6-13-anni-2/2024-07-20/
LOCATION:Kartodromo Happy Valley\, S.S. 16 Romea Sud 74\, Cervia\, Italia\, 48015\, Italia
CATEGORIES:Noleggio Kart
END:VEVENT
BEGIN:VEVENT
DTSTART;TZID=UTC:20240719T203000
DTEND;TZID=UTC:20240719T233000
DTSTAMP:20260420T170103
CREATED:20240701T193648Z
LAST-MODIFIED:20240702T095912Z
UID:10000227-1721421000-1721431800@happyvalleykart.com
SUMMARY:Noleggio Kart
DESCRIPTION:
URL:https://happyvalleykart.com/event/noleggio-kart-2/2024-07-19/2/
LOCATION:Kartodromo Happy Valley\, S.S. 16 Romea Sud 74\, Cervia\, Italia\, 48015\, Italia
CATEGORIES:Noleggio Kart
END:VEVENT
BEGIN:VEVENT
DTSTART;TZID=UTC:20240719T160000
DTEND;TZID=UTC:20240719T190000
DTSTAMP:20260420T170103
CREATED:20240701T193648Z
LAST-MODIFIED:20240702T095912Z
UID:10000226-1721404800-1721415600@happyvalleykart.com
SUMMARY:Noleggio Kart
DESCRIPTION:
URL:https://happyvalleykart.com/event/noleggio-kart-2/2024-07-19/1/
LOCATION:Kartodromo Happy Valley\, S.S. 16 Romea Sud 74\, Cervia\, Italia\, 48015\, Italia
CATEGORIES:Noleggio Kart
END:VEVENT
BEGIN:VEVENT
DTSTART;TZID=UTC:20240719T100000
DTEND;TZID=UTC:20240719T123000
DTSTAMP:20260420T170103
CREATED:20240701T195309Z
LAST-MODIFIED:20240718T134038Z
UID:10000214-1721383200-1721392200@happyvalleykart.com
SUMMARY:Noleggio Kart mattino per bimbi (6-13 anni)
DESCRIPTION:
URL:https://happyvalleykart.com/event/noleggio-kart-bimbi-6-13-anni-2/2024-07-19/
LOCATION:Kartodromo Happy Valley\, S.S. 16 Romea Sud 74\, Cervia\, Italia\, 48015\, Italia
CATEGORIES:Noleggio Kart
END:VEVENT
BEGIN:VEVENT
DTSTART;TZID=UTC:20240718T203000
DTEND;TZID=UTC:20240718T233000
DTSTAMP:20260420T170103
CREATED:20240701T193648Z
LAST-MODIFIED:20240702T095912Z
UID:10000171-1721334600-1721345400@happyvalleykart.com
SUMMARY:Noleggio Kart
DESCRIPTION:
URL:https://happyvalleykart.com/event/noleggio-kart-2/2024-07-18/2/
LOCATION:Kartodromo Happy Valley\, S.S. 16 Romea Sud 74\, Cervia\, Italia\, 48015\, Italia
CATEGORIES:Noleggio Kart
END:VEVENT
BEGIN:VEVENT
DTSTART;TZID=UTC:20240718T160000
DTEND;TZID=UTC:20240718T190000
DTSTAMP:20260420T170103
CREATED:20240701T193648Z
LAST-MODIFIED:20240702T095912Z
UID:10000170-1721318400-1721329200@happyvalleykart.com
SUMMARY:Noleggio Kart
DESCRIPTION:
URL:https://happyvalleykart.com/event/noleggio-kart-2/2024-07-18/1/
LOCATION:Kartodromo Happy Valley\, S.S. 16 Romea Sud 74\, Cervia\, Italia\, 48015\, Italia
CATEGORIES:Noleggio Kart
END:VEVENT
BEGIN:VEVENT
DTSTART;TZID=UTC:20240717T203000
DTEND;TZID=UTC:20240717T233000
DTSTAMP:20260420T170103
CREATED:20240701T193648Z
LAST-MODIFIED:20240702T095912Z
UID:10000169-1721248200-1721259000@happyvalleykart.com
SUMMARY:Noleggio Kart
DESCRIPTION:
URL:https://happyvalleykart.com/event/noleggio-kart-2/2024-07-17/2/
LOCATION:Kartodromo Happy Valley\, S.S. 16 Romea Sud 74\, Cervia\, Italia\, 48015\, Italia
CATEGORIES:Noleggio Kart
END:VEVENT
BEGIN:VEVENT
DTSTART;TZID=UTC:20240717T160000
DTEND;TZID=UTC:20240717T190000
DTSTAMP:20260420T170103
CREATED:20240701T193648Z
LAST-MODIFIED:20240702T095912Z
UID:10000168-1721232000-1721242800@happyvalleykart.com
SUMMARY:Noleggio Kart
DESCRIPTION:
URL:https://happyvalleykart.com/event/noleggio-kart-2/2024-07-17/1/
LOCATION:Kartodromo Happy Valley\, S.S. 16 Romea Sud 74\, Cervia\, Italia\, 48015\, Italia
CATEGORIES:Noleggio Kart
END:VEVENT
BEGIN:VEVENT
DTSTART;TZID=UTC:20240716T203000
DTEND;TZID=UTC:20240716T233000
DTSTAMP:20260420T170103
CREATED:20240701T193648Z
LAST-MODIFIED:20240702T095912Z
UID:10000167-1721161800-1721172600@happyvalleykart.com
SUMMARY:Noleggio Kart
DESCRIPTION:
URL:https://happyvalleykart.com/event/noleggio-kart-2/2024-07-16/2/
LOCATION:Kartodromo Happy Valley\, S.S. 16 Romea Sud 74\, Cervia\, Italia\, 48015\, Italia
CATEGORIES:Noleggio Kart
END:VEVENT
BEGIN:VEVENT
DTSTART;TZID=UTC:20240716T160000
DTEND;TZID=UTC:20240716T190000
DTSTAMP:20260420T170103
CREATED:20240701T193648Z
LAST-MODIFIED:20240702T095912Z
UID:10000166-1721145600-1721156400@happyvalleykart.com
SUMMARY:Noleggio Kart
DESCRIPTION:
URL:https://happyvalleykart.com/event/noleggio-kart-2/2024-07-16/1/
LOCATION:Kartodromo Happy Valley\, S.S. 16 Romea Sud 74\, Cervia\, Italia\, 48015\, Italia
CATEGORIES:Noleggio Kart
END:VEVENT
BEGIN:VEVENT
DTSTART;TZID=UTC:20240715T203000
DTEND;TZID=UTC:20240715T233000
DTSTAMP:20260420T170103
CREATED:20240701T193648Z
LAST-MODIFIED:20240702T095912Z
UID:10000165-1721075400-1721086200@happyvalleykart.com
SUMMARY:Noleggio Kart
DESCRIPTION:
URL:https://happyvalleykart.com/event/noleggio-kart-2/2024-07-15/2/
LOCATION:Kartodromo Happy Valley\, S.S. 16 Romea Sud 74\, Cervia\, Italia\, 48015\, Italia
CATEGORIES:Noleggio Kart
END:VEVENT
BEGIN:VEVENT
DTSTART;TZID=UTC:20240715T160000
DTEND;TZID=UTC:20240715T190000
DTSTAMP:20260420T170103
CREATED:20240701T193648Z
LAST-MODIFIED:20240702T095912Z
UID:10000164-1721059200-1721070000@happyvalleykart.com
SUMMARY:Noleggio Kart
DESCRIPTION:
URL:https://happyvalleykart.com/event/noleggio-kart-2/2024-07-15/1/
LOCATION:Kartodromo Happy Valley\, S.S. 16 Romea Sud 74\, Cervia\, Italia\, 48015\, Italia
CATEGORIES:Noleggio Kart
END:VEVENT
BEGIN:VEVENT
DTSTART;TZID=UTC:20240714T203000
DTEND;TZID=UTC:20240714T230000
DTSTAMP:20260420T170103
CREATED:20240701T193648Z
LAST-MODIFIED:20240702T095912Z
UID:10000163-1720989000-1720998000@happyvalleykart.com
SUMMARY:Noleggio Kart
DESCRIPTION:
URL:https://happyvalleykart.com/event/noleggio-kart-2/2024-07-14/2/
LOCATION:Kartodromo Happy Valley\, S.S. 16 Romea Sud 74\, Cervia\, Italia\, 48015\, Italia
CATEGORIES:Noleggio Kart
END:VEVENT
BEGIN:VEVENT
DTSTART;TZID=UTC:20240714T160000
DTEND;TZID=UTC:20240714T190000
DTSTAMP:20260420T170103
CREATED:20240701T193648Z
LAST-MODIFIED:20240702T095912Z
UID:10000162-1720972800-1720983600@happyvalleykart.com
SUMMARY:Noleggio Kart
DESCRIPTION:
URL:https://happyvalleykart.com/event/noleggio-kart-2/2024-07-14/1/
LOCATION:Kartodromo Happy Valley\, S.S. 16 Romea Sud 74\, Cervia\, Italia\, 48015\, Italia
CATEGORIES:Noleggio Kart
END:VEVENT
END:VCALENDAR