BEGIN:VCALENDAR
VERSION:2.0
PRODID:-//Happy Valley - ECPv6.15.17//NONSGML v1.0//EN
CALSCALE:GREGORIAN
METHOD:PUBLISH
X-WR-CALNAME:Happy Valley
X-ORIGINAL-URL:https://happyvalleykart.com
X-WR-CALDESC:Eventi per Happy Valley
REFRESH-INTERVAL;VALUE=DURATION:PT1H
X-Robots-Tag:noindex
X-PUBLISHED-TTL:PT1H
BEGIN:VTIMEZONE
TZID:UTC
BEGIN:STANDARD
TZOFFSETFROM:+0000
TZOFFSETTO:+0000
TZNAME:UTC
DTSTART:20230101T000000
END:STANDARD
END:VTIMEZONE
BEGIN:VEVENT
DTSTART;TZID=UTC:20240816T160000
DTEND;TZID=UTC:20240816T233000
DTSTAMP:20260420T102044
CREATED:20240718T131609Z
LAST-MODIFIED:20240804T125547Z
UID:10000343-1723824000-1723851000@happyvalleykart.com
SUMMARY:Noleggio Kart pomeriggio e sera
DESCRIPTION:
URL:https://happyvalleykart.com/event/noleggio-kart-pomeridiano-2/2024-08-16/
LOCATION:Kartodromo Happy Valley\, S.S. 16 Romea Sud 74\, Cervia\, Italia\, 48015\, Italia
CATEGORIES:Noleggio Kart
END:VEVENT
BEGIN:VEVENT
DTSTART;TZID=UTC:20240816T100000
DTEND;TZID=UTC:20240816T123000
DTSTAMP:20260420T102044
CREATED:20240718T133108Z
LAST-MODIFIED:20240809T114230Z
UID:10000363-1723802400-1723811400@happyvalleykart.com
SUMMARY:Noleggio Kart mattino per bimbi (6-13 anni)
DESCRIPTION:
URL:https://happyvalleykart.com/event/noleggio-kart-bimbi-mattino-6-13-anni/2024-08-16/
LOCATION:Kartodromo Happy Valley\, S.S. 16 Romea Sud 74\, Cervia\, Italia\, 48015\, Italia
CATEGORIES:Noleggio Kart
END:VEVENT
BEGIN:VEVENT
DTSTART;TZID=UTC:20240815T160000
DTEND;TZID=UTC:20240815T233000
DTSTAMP:20260420T102044
CREATED:20240718T131609Z
LAST-MODIFIED:20240804T125547Z
UID:10000342-1723737600-1723764600@happyvalleykart.com
SUMMARY:Noleggio Kart pomeriggio e sera
DESCRIPTION:
URL:https://happyvalleykart.com/event/noleggio-kart-pomeridiano-2/2024-08-15/
LOCATION:Kartodromo Happy Valley\, S.S. 16 Romea Sud 74\, Cervia\, Italia\, 48015\, Italia
CATEGORIES:Noleggio Kart
END:VEVENT
BEGIN:VEVENT
DTSTART;TZID=UTC:20240814T160000
DTEND;TZID=UTC:20240814T233000
DTSTAMP:20260420T102044
CREATED:20240718T131609Z
LAST-MODIFIED:20240804T125547Z
UID:10000341-1723651200-1723678200@happyvalleykart.com
SUMMARY:Noleggio Kart pomeriggio e sera
DESCRIPTION:
URL:https://happyvalleykart.com/event/noleggio-kart-pomeridiano-2/2024-08-14/
LOCATION:Kartodromo Happy Valley\, S.S. 16 Romea Sud 74\, Cervia\, Italia\, 48015\, Italia
CATEGORIES:Noleggio Kart
END:VEVENT
BEGIN:VEVENT
DTSTART;TZID=UTC:20240813T160000
DTEND;TZID=UTC:20240813T233000
DTSTAMP:20260420T102044
CREATED:20240718T131609Z
LAST-MODIFIED:20240804T125547Z
UID:10000340-1723564800-1723591800@happyvalleykart.com
SUMMARY:Noleggio Kart pomeriggio e sera
DESCRIPTION:
URL:https://happyvalleykart.com/event/noleggio-kart-pomeridiano-2/2024-08-13/
LOCATION:Kartodromo Happy Valley\, S.S. 16 Romea Sud 74\, Cervia\, Italia\, 48015\, Italia
CATEGORIES:Noleggio Kart
END:VEVENT
BEGIN:VEVENT
DTSTART;TZID=UTC:20240812T160000
DTEND;TZID=UTC:20240812T233000
DTSTAMP:20260420T102044
CREATED:20240718T131609Z
LAST-MODIFIED:20240804T125547Z
UID:10000339-1723478400-1723505400@happyvalleykart.com
SUMMARY:Noleggio Kart pomeriggio e sera
DESCRIPTION:
URL:https://happyvalleykart.com/event/noleggio-kart-pomeridiano-2/2024-08-12/
LOCATION:Kartodromo Happy Valley\, S.S. 16 Romea Sud 74\, Cervia\, Italia\, 48015\, Italia
CATEGORIES:Noleggio Kart
END:VEVENT
BEGIN:VEVENT
DTSTART;TZID=UTC:20240811T203000
DTEND;TZID=UTC:20240811T233000
DTSTAMP:20260420T102044
CREATED:20240718T130121Z
LAST-MODIFIED:20240718T133910Z
UID:10000289-1723408200-1723419000@happyvalleykart.com
SUMMARY:Noleggio Kart sera
DESCRIPTION:
URL:https://happyvalleykart.com/event/noleggio-kart-4/2024-08-11/
LOCATION:Kartodromo Happy Valley\, S.S. 16 Romea Sud 74\, Cervia\, Italia\, 48015\, Italia
CATEGORIES:Noleggio Kart
END:VEVENT
BEGIN:VEVENT
DTSTART;TZID=UTC:20240811T160000
DTEND;TZID=UTC:20240811T190000
DTSTAMP:20260420T102044
CREATED:20240718T123501Z
LAST-MODIFIED:20240718T133941Z
UID:10000246-1723392000-1723402800@happyvalleykart.com
SUMMARY:Noleggio Kart pomeriggio
DESCRIPTION:
URL:https://happyvalleykart.com/event/noleggio-kart-3/2024-08-11/
LOCATION:Kartodromo Happy Valley\, S.S. 16 Romea Sud 74\, Cervia\, Italia\, 48015\, Italia
CATEGORIES:Noleggio Kart
END:VEVENT
BEGIN:VEVENT
DTSTART;TZID=UTC:20240810T203000
DTEND;TZID=UTC:20240810T233000
DTSTAMP:20260420T102044
CREATED:20240718T130121Z
LAST-MODIFIED:20240718T133910Z
UID:10000288-1723321800-1723332600@happyvalleykart.com
SUMMARY:Noleggio Kart sera
DESCRIPTION:
URL:https://happyvalleykart.com/event/noleggio-kart-4/2024-08-10/
LOCATION:Kartodromo Happy Valley\, S.S. 16 Romea Sud 74\, Cervia\, Italia\, 48015\, Italia
CATEGORIES:Noleggio Kart
END:VEVENT
BEGIN:VEVENT
DTSTART;TZID=UTC:20240810T160000
DTEND;TZID=UTC:20240810T190000
DTSTAMP:20260420T102044
CREATED:20240718T123501Z
LAST-MODIFIED:20240718T133941Z
UID:10000245-1723305600-1723316400@happyvalleykart.com
SUMMARY:Noleggio Kart pomeriggio
DESCRIPTION:
URL:https://happyvalleykart.com/event/noleggio-kart-3/2024-08-10/
LOCATION:Kartodromo Happy Valley\, S.S. 16 Romea Sud 74\, Cervia\, Italia\, 48015\, Italia
CATEGORIES:Noleggio Kart
END:VEVENT
BEGIN:VEVENT
DTSTART;TZID=UTC:20240810T100000
DTEND;TZID=UTC:20240810T123000
DTSTAMP:20260420T102044
CREATED:20240718T133108Z
LAST-MODIFIED:20240809T114230Z
UID:10000362-1723284000-1723293000@happyvalleykart.com
SUMMARY:Noleggio Kart mattino per bimbi (6-13 anni)
DESCRIPTION:
URL:https://happyvalleykart.com/event/noleggio-kart-bimbi-mattino-6-13-anni/2024-08-10/
LOCATION:Kartodromo Happy Valley\, S.S. 16 Romea Sud 74\, Cervia\, Italia\, 48015\, Italia
CATEGORIES:Noleggio Kart
END:VEVENT
BEGIN:VEVENT
DTSTART;TZID=UTC:20240809T203000
DTEND;TZID=UTC:20240809T233000
DTSTAMP:20260420T102044
CREATED:20240718T130121Z
LAST-MODIFIED:20240718T133910Z
UID:10000287-1723235400-1723246200@happyvalleykart.com
SUMMARY:Noleggio Kart sera
DESCRIPTION:
URL:https://happyvalleykart.com/event/noleggio-kart-4/2024-08-09/
LOCATION:Kartodromo Happy Valley\, S.S. 16 Romea Sud 74\, Cervia\, Italia\, 48015\, Italia
CATEGORIES:Noleggio Kart
END:VEVENT
BEGIN:VEVENT
DTSTART;TZID=UTC:20240809T160000
DTEND;TZID=UTC:20240809T190000
DTSTAMP:20260420T102044
CREATED:20240718T123501Z
LAST-MODIFIED:20240718T133941Z
UID:10000244-1723219200-1723230000@happyvalleykart.com
SUMMARY:Noleggio Kart pomeriggio
DESCRIPTION:
URL:https://happyvalleykart.com/event/noleggio-kart-3/2024-08-09/
LOCATION:Kartodromo Happy Valley\, S.S. 16 Romea Sud 74\, Cervia\, Italia\, 48015\, Italia
CATEGORIES:Noleggio Kart
END:VEVENT
BEGIN:VEVENT
DTSTART;TZID=UTC:20240809T100000
DTEND;TZID=UTC:20240809T123000
DTSTAMP:20260420T102044
CREATED:20240718T133108Z
LAST-MODIFIED:20240809T114230Z
UID:10000361-1723197600-1723206600@happyvalleykart.com
SUMMARY:Noleggio Kart mattino per bimbi (6-13 anni)
DESCRIPTION:
URL:https://happyvalleykart.com/event/noleggio-kart-bimbi-mattino-6-13-anni/2024-08-09/
LOCATION:Kartodromo Happy Valley\, S.S. 16 Romea Sud 74\, Cervia\, Italia\, 48015\, Italia
CATEGORIES:Noleggio Kart
END:VEVENT
BEGIN:VEVENT
DTSTART;TZID=UTC:20240808T203000
DTEND;TZID=UTC:20240808T233000
DTSTAMP:20260420T102044
CREATED:20240718T130121Z
LAST-MODIFIED:20240718T133910Z
UID:10000286-1723149000-1723159800@happyvalleykart.com
SUMMARY:Noleggio Kart sera
DESCRIPTION:
URL:https://happyvalleykart.com/event/noleggio-kart-4/2024-08-08/
LOCATION:Kartodromo Happy Valley\, S.S. 16 Romea Sud 74\, Cervia\, Italia\, 48015\, Italia
CATEGORIES:Noleggio Kart
END:VEVENT
BEGIN:VEVENT
DTSTART;TZID=UTC:20240808T160000
DTEND;TZID=UTC:20240808T190000
DTSTAMP:20260420T102044
CREATED:20240718T123501Z
LAST-MODIFIED:20240718T133941Z
UID:10000243-1723132800-1723143600@happyvalleykart.com
SUMMARY:Noleggio Kart pomeriggio
DESCRIPTION:
URL:https://happyvalleykart.com/event/noleggio-kart-3/2024-08-08/
LOCATION:Kartodromo Happy Valley\, S.S. 16 Romea Sud 74\, Cervia\, Italia\, 48015\, Italia
CATEGORIES:Noleggio Kart
END:VEVENT
BEGIN:VEVENT
DTSTART;TZID=UTC:20240807T203000
DTEND;TZID=UTC:20240807T233000
DTSTAMP:20260420T102044
CREATED:20240718T130121Z
LAST-MODIFIED:20240718T133910Z
UID:10000285-1723062600-1723073400@happyvalleykart.com
SUMMARY:Noleggio Kart sera
DESCRIPTION:
URL:https://happyvalleykart.com/event/noleggio-kart-4/2024-08-07/
LOCATION:Kartodromo Happy Valley\, S.S. 16 Romea Sud 74\, Cervia\, Italia\, 48015\, Italia
CATEGORIES:Noleggio Kart
END:VEVENT
BEGIN:VEVENT
DTSTART;TZID=UTC:20240807T160000
DTEND;TZID=UTC:20240807T190000
DTSTAMP:20260420T102044
CREATED:20240718T123501Z
LAST-MODIFIED:20240718T133941Z
UID:10000242-1723046400-1723057200@happyvalleykart.com
SUMMARY:Noleggio Kart pomeriggio
DESCRIPTION:
URL:https://happyvalleykart.com/event/noleggio-kart-3/2024-08-07/
LOCATION:Kartodromo Happy Valley\, S.S. 16 Romea Sud 74\, Cervia\, Italia\, 48015\, Italia
CATEGORIES:Noleggio Kart
END:VEVENT
BEGIN:VEVENT
DTSTART;TZID=UTC:20240806T203000
DTEND;TZID=UTC:20240806T233000
DTSTAMP:20260420T102044
CREATED:20240718T130121Z
LAST-MODIFIED:20240718T133910Z
UID:10000284-1722976200-1722987000@happyvalleykart.com
SUMMARY:Noleggio Kart sera
DESCRIPTION:
URL:https://happyvalleykart.com/event/noleggio-kart-4/2024-08-06/
LOCATION:Kartodromo Happy Valley\, S.S. 16 Romea Sud 74\, Cervia\, Italia\, 48015\, Italia
CATEGORIES:Noleggio Kart
END:VEVENT
BEGIN:VEVENT
DTSTART;TZID=UTC:20240806T160000
DTEND;TZID=UTC:20240806T190000
DTSTAMP:20260420T102044
CREATED:20240718T123501Z
LAST-MODIFIED:20240718T133941Z
UID:10000241-1722960000-1722970800@happyvalleykart.com
SUMMARY:Noleggio Kart pomeriggio
DESCRIPTION:
URL:https://happyvalleykart.com/event/noleggio-kart-3/2024-08-06/
LOCATION:Kartodromo Happy Valley\, S.S. 16 Romea Sud 74\, Cervia\, Italia\, 48015\, Italia
CATEGORIES:Noleggio Kart
END:VEVENT
BEGIN:VEVENT
DTSTART;TZID=UTC:20240805T203000
DTEND;TZID=UTC:20240805T233000
DTSTAMP:20260420T102044
CREATED:20240718T130121Z
LAST-MODIFIED:20240718T133910Z
UID:10000283-1722889800-1722900600@happyvalleykart.com
SUMMARY:Noleggio Kart sera
DESCRIPTION:
URL:https://happyvalleykart.com/event/noleggio-kart-4/2024-08-05/
LOCATION:Kartodromo Happy Valley\, S.S. 16 Romea Sud 74\, Cervia\, Italia\, 48015\, Italia
CATEGORIES:Noleggio Kart
END:VEVENT
BEGIN:VEVENT
DTSTART;TZID=UTC:20240805T160000
DTEND;TZID=UTC:20240805T190000
DTSTAMP:20260420T102044
CREATED:20240718T123501Z
LAST-MODIFIED:20240718T133941Z
UID:10000240-1722873600-1722884400@happyvalleykart.com
SUMMARY:Noleggio Kart pomeriggio
DESCRIPTION:
URL:https://happyvalleykart.com/event/noleggio-kart-3/2024-08-05/
LOCATION:Kartodromo Happy Valley\, S.S. 16 Romea Sud 74\, Cervia\, Italia\, 48015\, Italia
CATEGORIES:Noleggio Kart
END:VEVENT
BEGIN:VEVENT
DTSTART;TZID=UTC:20240804T203000
DTEND;TZID=UTC:20240804T233000
DTSTAMP:20260420T102044
CREATED:20240718T130121Z
LAST-MODIFIED:20240718T133910Z
UID:10000282-1722803400-1722814200@happyvalleykart.com
SUMMARY:Noleggio Kart sera
DESCRIPTION:
URL:https://happyvalleykart.com/event/noleggio-kart-4/2024-08-04/
LOCATION:Kartodromo Happy Valley\, S.S. 16 Romea Sud 74\, Cervia\, Italia\, 48015\, Italia
CATEGORIES:Noleggio Kart
END:VEVENT
BEGIN:VEVENT
DTSTART;TZID=UTC:20240804T160000
DTEND;TZID=UTC:20240804T190000
DTSTAMP:20260420T102044
CREATED:20240718T123501Z
LAST-MODIFIED:20240718T133941Z
UID:10000239-1722787200-1722798000@happyvalleykart.com
SUMMARY:Noleggio Kart pomeriggio
DESCRIPTION:
URL:https://happyvalleykart.com/event/noleggio-kart-3/2024-08-04/
LOCATION:Kartodromo Happy Valley\, S.S. 16 Romea Sud 74\, Cervia\, Italia\, 48015\, Italia
CATEGORIES:Noleggio Kart
END:VEVENT
BEGIN:VEVENT
DTSTART;TZID=UTC:20240803T203000
DTEND;TZID=UTC:20240803T233000
DTSTAMP:20260420T102044
CREATED:20240718T130121Z
LAST-MODIFIED:20240718T133910Z
UID:10000281-1722717000-1722727800@happyvalleykart.com
SUMMARY:Noleggio Kart sera
DESCRIPTION:
URL:https://happyvalleykart.com/event/noleggio-kart-4/2024-08-03/
LOCATION:Kartodromo Happy Valley\, S.S. 16 Romea Sud 74\, Cervia\, Italia\, 48015\, Italia
CATEGORIES:Noleggio Kart
END:VEVENT
BEGIN:VEVENT
DTSTART;TZID=UTC:20240803T160000
DTEND;TZID=UTC:20240803T190000
DTSTAMP:20260420T102044
CREATED:20240718T123501Z
LAST-MODIFIED:20240718T133941Z
UID:10000238-1722700800-1722711600@happyvalleykart.com
SUMMARY:Noleggio Kart pomeriggio
DESCRIPTION:
URL:https://happyvalleykart.com/event/noleggio-kart-3/2024-08-03/
LOCATION:Kartodromo Happy Valley\, S.S. 16 Romea Sud 74\, Cervia\, Italia\, 48015\, Italia
CATEGORIES:Noleggio Kart
END:VEVENT
BEGIN:VEVENT
DTSTART;TZID=UTC:20240803T100000
DTEND;TZID=UTC:20240803T123000
DTSTAMP:20260420T102044
CREATED:20240718T133108Z
LAST-MODIFIED:20240809T114230Z
UID:10000360-1722679200-1722688200@happyvalleykart.com
SUMMARY:Noleggio Kart mattino per bimbi (6-13 anni)
DESCRIPTION:
URL:https://happyvalleykart.com/event/noleggio-kart-bimbi-mattino-6-13-anni/2024-08-03/
LOCATION:Kartodromo Happy Valley\, S.S. 16 Romea Sud 74\, Cervia\, Italia\, 48015\, Italia
CATEGORIES:Noleggio Kart
END:VEVENT
BEGIN:VEVENT
DTSTART;TZID=UTC:20240802T203000
DTEND;TZID=UTC:20240802T233000
DTSTAMP:20260420T102044
CREATED:20240718T130121Z
LAST-MODIFIED:20240718T133910Z
UID:10000280-1722630600-1722641400@happyvalleykart.com
SUMMARY:Noleggio Kart sera
DESCRIPTION:
URL:https://happyvalleykart.com/event/noleggio-kart-4/2024-08-02/
LOCATION:Kartodromo Happy Valley\, S.S. 16 Romea Sud 74\, Cervia\, Italia\, 48015\, Italia
CATEGORIES:Noleggio Kart
END:VEVENT
BEGIN:VEVENT
DTSTART;TZID=UTC:20240802T160000
DTEND;TZID=UTC:20240802T190000
DTSTAMP:20260420T102044
CREATED:20240718T123501Z
LAST-MODIFIED:20240718T133941Z
UID:10000237-1722614400-1722625200@happyvalleykart.com
SUMMARY:Noleggio Kart pomeriggio
DESCRIPTION:
URL:https://happyvalleykart.com/event/noleggio-kart-3/2024-08-02/
LOCATION:Kartodromo Happy Valley\, S.S. 16 Romea Sud 74\, Cervia\, Italia\, 48015\, Italia
CATEGORIES:Noleggio Kart
END:VEVENT
BEGIN:VEVENT
DTSTART;TZID=UTC:20240802T100000
DTEND;TZID=UTC:20240802T123000
DTSTAMP:20260420T102044
CREATED:20240718T133108Z
LAST-MODIFIED:20240809T114230Z
UID:10000359-1722592800-1722601800@happyvalleykart.com
SUMMARY:Noleggio Kart mattino per bimbi (6-13 anni)
DESCRIPTION:
URL:https://happyvalleykart.com/event/noleggio-kart-bimbi-mattino-6-13-anni/2024-08-02/
LOCATION:Kartodromo Happy Valley\, S.S. 16 Romea Sud 74\, Cervia\, Italia\, 48015\, Italia
CATEGORIES:Noleggio Kart
END:VEVENT
END:VCALENDAR