BEGIN:VCALENDAR
VERSION:2.0
PRODID:-//Happy Valley - ECPv6.15.17//NONSGML v1.0//EN
CALSCALE:GREGORIAN
METHOD:PUBLISH
X-WR-CALNAME:Happy Valley
X-ORIGINAL-URL:https://happyvalleykart.com
X-WR-CALDESC:Eventi per Happy Valley
REFRESH-INTERVAL;VALUE=DURATION:PT1H
X-Robots-Tag:noindex
X-PUBLISHED-TTL:PT1H
BEGIN:VTIMEZONE
TZID:UTC
BEGIN:STANDARD
TZOFFSETFROM:+0000
TZOFFSETTO:+0000
TZNAME:UTC
DTSTART:20240101T000000
END:STANDARD
END:VTIMEZONE
BEGIN:VEVENT
DTSTART;TZID=UTC:20251026T090000
DTEND;TZID=UTC:20251026T150000
DTSTAMP:20260419T172438
CREATED:20250110T151927Z
LAST-MODIFIED:20250917T150840Z
UID:10001992-1761469200-1761490800@happyvalleykart.com
SUMMARY:ROMAGNA RENTAL KART CHAMPIONSHIP
DESCRIPTION:GARA RENTAL SPRINT
URL:https://happyvalleykart.com/event/romagna-rental-kart-championship/
LOCATION:Kartodromo Happy Valley\, S.S. 16 Romea Sud 74\, Cervia\, Italia\, 48015\, Italia
CATEGORIES:Eventi,Orari,Prove libere Kart/Moto di proprietà
ATTACH;FMTTYPE=image/png:https://happyvalleykart.com/wp-content/uploads/2025/01/images.png
END:VEVENT
END:VCALENDAR