BEGIN:VCALENDAR
VERSION:2.0
PRODID:-//Happy Valley - ECPv6.15.17//NONSGML v1.0//EN
CALSCALE:GREGORIAN
METHOD:PUBLISH
X-WR-CALNAME:Happy Valley
X-ORIGINAL-URL:https://happyvalleykart.com
X-WR-CALDESC:Eventi per Happy Valley
REFRESH-INTERVAL;VALUE=DURATION:PT1H
X-Robots-Tag:noindex
X-PUBLISHED-TTL:PT1H
BEGIN:VTIMEZONE
TZID:UTC
BEGIN:STANDARD
TZOFFSETFROM:+0000
TZOFFSETTO:+0000
TZNAME:UTC
DTSTART:20230101T000000
END:STANDARD
END:VTIMEZONE
BEGIN:VEVENT
DTSTART;TZID=UTC:20240915T090000
DTEND;TZID=UTC:20240915T160000
DTSTAMP:20260420T012514
CREATED:20240604T201305Z
LAST-MODIFIED:20240829T130100Z
UID:10000060-1726390800-1726416000@happyvalleykart.com
SUMMARY:2° REVIVAL HISTORIC KART  (ASI)
DESCRIPTION:COMUNICATO INFORMATIVO
URL:https://happyvalleykart.com/event/2-revival-historic-kart-asi/
LOCATION:Kartodromo Happy Valley\, S.S. 16 Romea Sud 74\, Cervia\, Italia\, 48015\, Italia
CATEGORIES:Eventi,Prove libere Kart/Moto di proprietà
ATTACH;FMTTYPE=image/jpeg:https://happyvalleykart.com/wp-content/uploads/2024/06/12.jpg
END:VEVENT
END:VCALENDAR