BEGIN:VCALENDAR
VERSION:2.0
PRODID:-//Happy Valley - ECPv6.15.17//NONSGML v1.0//EN
CALSCALE:GREGORIAN
METHOD:PUBLISH
X-ORIGINAL-URL:https://happyvalleykart.com
X-WR-CALDESC:Eventi per Happy Valley
REFRESH-INTERVAL;VALUE=DURATION:PT1H
X-Robots-Tag:noindex
X-PUBLISHED-TTL:PT1H
BEGIN:VTIMEZONE
TZID:UTC
BEGIN:STANDARD
TZOFFSETFROM:+0000
TZOFFSETTO:+0000
TZNAME:UTC
DTSTART:20250101T000000
END:STANDARD
END:VTIMEZONE
BEGIN:VEVENT
DTSTART;TZID=UTC:20260502T090000
DTEND;TZID=UTC:20260502T170000
DTSTAMP:20260419T202048
CREATED:20260107T141013Z
LAST-MODIFIED:20260107T141251Z
UID:10002693-1777712400-1777741200@happyvalleykart.com
SUMMARY:2° PROVA BRIGG’S & STRATTON KART CHAMPIONSHIP
DESCRIPTION:
URL:https://happyvalleykart.com/event/2-prova-briggs-stratton-kart-championship/2026-05-02/
LOCATION:Kartodromo Happy Valley\, S.S. 16 Romea Sud 74\, Cervia\, Italia\, 48015\, Italia
CATEGORIES:Eventi,Prove libere Kart/Moto di proprietà
ATTACH;FMTTYPE=image/jpeg:https://happyvalleykart.com/wp-content/uploads/2024/06/441066463_1034705618216938_4232602164607796607_n.jpg
END:VEVENT
BEGIN:VEVENT
DTSTART;TZID=UTC:20260503T080000
DTEND;TZID=UTC:20260503T170000
DTSTAMP:20260419T202048
CREATED:20260107T141013Z
LAST-MODIFIED:20260107T141251Z
UID:10002694-1777795200-1777827600@happyvalleykart.com
SUMMARY:2° PROVA BRIGG’S & STRATTON KART CHAMPIONSHIP
DESCRIPTION:
URL:https://happyvalleykart.com/event/2-prova-briggs-stratton-kart-championship/2026-05-03/
LOCATION:Kartodromo Happy Valley\, S.S. 16 Romea Sud 74\, Cervia\, Italia\, 48015\, Italia
CATEGORIES:Eventi,Prove libere Kart/Moto di proprietà
ATTACH;FMTTYPE=image/jpeg:https://happyvalleykart.com/wp-content/uploads/2024/06/441066463_1034705618216938_4232602164607796607_n.jpg
END:VEVENT
BEGIN:VEVENT
DTSTART;TZID=UTC:20260531T090000
DTEND;TZID=UTC:20260531T160000
DTSTAMP:20260419T202048
CREATED:20260107T141204Z
LAST-MODIFIED:20260107T141204Z
UID:10002695-1780218000-1780243200@happyvalleykart.com
SUMMARY:HAPPY BIRTHDAY HAPPY VALLEY (ASI)
DESCRIPTION:ESIBIZIONE DI KART STORICI E MODERNI \nINFO ISCRIZIONE E COMUNICATO
URL:https://happyvalleykart.com/event/happy-birthday-happy-valley-asi-2/
LOCATION:Kartodromo Happy Valley\, S.S. 16 Romea Sud 74\, Cervia\, Italia\, 48015\, Italia
CATEGORIES:Eventi,Prove libere Kart/Moto di proprietà
ATTACH;FMTTYPE=image/jpeg:https://happyvalleykart.com/wp-content/uploads/2024/06/maxresdefault.jpg
END:VEVENT
BEGIN:VEVENT
DTSTART;TZID=UTC:20260704T100000
DTEND;TZID=UTC:20260704T173000
DTSTAMP:20260419T202048
CREATED:20260107T142611Z
LAST-MODIFIED:20260107T142611Z
UID:10002697-1783159200-1783186200@happyvalleykart.com
SUMMARY:KZR CHAMPIONSHIP
DESCRIPTION:
URL:https://happyvalleykart.com/event/kzr-championship/2026-07-04/
LOCATION:Kartodromo Happy Valley\, S.S. 16 Romea Sud 74\, Cervia\, Italia\, 48015\, Italia
CATEGORIES:Eventi,Orari,Prove libere Kart/Moto di proprietà
ATTACH;FMTTYPE=image/jpeg:https://happyvalleykart.com/wp-content/uploads/2026/01/KZR.jpg
END:VEVENT
BEGIN:VEVENT
DTSTART;TZID=UTC:20260705T080000
DTEND;TZID=UTC:20260705T170000
DTSTAMP:20260419T202048
CREATED:20260107T142611Z
LAST-MODIFIED:20260107T142611Z
UID:10002698-1783238400-1783270800@happyvalleykart.com
SUMMARY:KZR CHAMPIONSHIP
DESCRIPTION:
URL:https://happyvalleykart.com/event/kzr-championship/2026-07-05/
LOCATION:Kartodromo Happy Valley\, S.S. 16 Romea Sud 74\, Cervia\, Italia\, 48015\, Italia
CATEGORIES:Eventi,Orari,Prove libere Kart/Moto di proprietà
ATTACH;FMTTYPE=image/jpeg:https://happyvalleykart.com/wp-content/uploads/2026/01/KZR.jpg
END:VEVENT
BEGIN:VEVENT
DTSTART;TZID=UTC:20260913T090000
DTEND;TZID=UTC:20260913T160000
DTSTAMP:20260419T202048
CREATED:20260107T142745Z
LAST-MODIFIED:20260124T171250Z
UID:10002699-1789290000-1789315200@happyvalleykart.com
SUMMARY:4° REVIVAL HISTORIC KART  (ASI)
DESCRIPTION:ESIBIZIONE DI KART STORICI E MODERNI \nINFO ISCRIZIONE E COMUNICATO
URL:https://happyvalleykart.com/event/4-revival-historic-kart-asi/
LOCATION:Kartodromo Happy Valley\, S.S. 16 Romea Sud 74\, Cervia\, Italia\, 48015\, Italia
CATEGORIES:Eventi,Prove libere Kart/Moto di proprietà
ATTACH;FMTTYPE=image/jpeg:https://happyvalleykart.com/wp-content/uploads/2024/06/12.jpg
END:VEVENT
BEGIN:VEVENT
DTSTART;TZID=UTC:20261003T080000
DTEND;TZID=UTC:20261003T180000
DTSTAMP:20260419T202048
CREATED:20260107T143224Z
LAST-MODIFIED:20260107T143355Z
UID:10002702-1791014400-1791050400@happyvalleykart.com
SUMMARY:CAMPIONATO ITALIANO MINIMOTO\OHVALE 110
DESCRIPTION:COMUNICATO GARA >>>
URL:https://happyvalleykart.com/event/campionato-italiano-minimotoohvale-110/2026-10-03/
LOCATION:Kartodromo Happy Valley\, S.S. 16 Romea Sud 74\, Cervia\, Italia\, 48015\, Italia
CATEGORIES:Eventi,Noleggio Kart,Orari,Prove libere Kart/Moto di proprietà
ATTACH;FMTTYPE=image/jpeg:https://happyvalleykart.com/wp-content/uploads/2024/06/Matteo-Cianciosi-PH24-4605-scaled.jpg
END:VEVENT
BEGIN:VEVENT
DTSTART;TZID=UTC:20261004T080000
DTEND;TZID=UTC:20261004T180000
DTSTAMP:20260419T202048
CREATED:20260107T143224Z
LAST-MODIFIED:20260107T143355Z
UID:10002703-1791100800-1791136800@happyvalleykart.com
SUMMARY:CAMPIONATO ITALIANO MINIMOTO\OHVALE 110
DESCRIPTION:COMUNICATO GARA >>>
URL:https://happyvalleykart.com/event/campionato-italiano-minimotoohvale-110/2026-10-04/
LOCATION:Kartodromo Happy Valley\, S.S. 16 Romea Sud 74\, Cervia\, Italia\, 48015\, Italia
CATEGORIES:Eventi,Noleggio Kart,Orari,Prove libere Kart/Moto di proprietà
ATTACH;FMTTYPE=image/jpeg:https://happyvalleykart.com/wp-content/uploads/2024/06/Matteo-Cianciosi-PH24-4605-scaled.jpg
END:VEVENT
END:VCALENDAR