BEGIN:VCALENDAR
VERSION:2.0
PRODID:-//Happy Valley - ECPv6.15.17//NONSGML v1.0//EN
CALSCALE:GREGORIAN
METHOD:PUBLISH
X-ORIGINAL-URL:https://happyvalleykart.com
X-WR-CALDESC:Eventi per Happy Valley
REFRESH-INTERVAL;VALUE=DURATION:PT1H
X-Robots-Tag:noindex
X-PUBLISHED-TTL:PT1H
BEGIN:VTIMEZONE
TZID:UTC
BEGIN:STANDARD
TZOFFSETFROM:+0000
TZOFFSETTO:+0000
TZNAME:UTC
DTSTART:20230101T000000
END:STANDARD
END:VTIMEZONE
BEGIN:VEVENT
DTSTART;TZID=UTC:20241114T080000
DTEND;TZID=UTC:20241114T230000
DTSTAMP:20260420T023821
CREATED:20241101T144434Z
LAST-MODIFIED:20241117T133046Z
UID:10001486-1731571200-1731625200@happyvalleykart.com
SUMMARY:CHIUSURA INVERNALE
DESCRIPTION:
URL:https://happyvalleykart.com/event/chiusura-invernale/2024-11-14/
LOCATION:Kartodromo Happy Valley\, S.S. 16 Romea Sud 74\, Cervia\, Italia\, 48015\, Italia
CATEGORIES:CHIUSURA,Noleggio Kart
END:VEVENT
BEGIN:VEVENT
DTSTART;TZID=UTC:20241113T080000
DTEND;TZID=UTC:20241113T230000
DTSTAMP:20260420T023821
CREATED:20241101T144434Z
LAST-MODIFIED:20241117T133046Z
UID:10001485-1731484800-1731538800@happyvalleykart.com
SUMMARY:CHIUSURA INVERNALE
DESCRIPTION:
URL:https://happyvalleykart.com/event/chiusura-invernale/2024-11-13/
LOCATION:Kartodromo Happy Valley\, S.S. 16 Romea Sud 74\, Cervia\, Italia\, 48015\, Italia
CATEGORIES:CHIUSURA,Noleggio Kart
END:VEVENT
BEGIN:VEVENT
DTSTART;TZID=UTC:20241112T080000
DTEND;TZID=UTC:20241112T230000
DTSTAMP:20260420T023821
CREATED:20241101T144434Z
LAST-MODIFIED:20241117T133046Z
UID:10001484-1731398400-1731452400@happyvalleykart.com
SUMMARY:CHIUSURA INVERNALE
DESCRIPTION:
URL:https://happyvalleykart.com/event/chiusura-invernale/2024-11-12/
LOCATION:Kartodromo Happy Valley\, S.S. 16 Romea Sud 74\, Cervia\, Italia\, 48015\, Italia
CATEGORIES:CHIUSURA,Noleggio Kart
END:VEVENT
BEGIN:VEVENT
DTSTART;TZID=UTC:20241111T080000
DTEND;TZID=UTC:20241111T230000
DTSTAMP:20260420T023821
CREATED:20241101T144434Z
LAST-MODIFIED:20241117T133046Z
UID:10001483-1731312000-1731366000@happyvalleykart.com
SUMMARY:CHIUSURA INVERNALE
DESCRIPTION:
URL:https://happyvalleykart.com/event/chiusura-invernale/2024-11-11/
LOCATION:Kartodromo Happy Valley\, S.S. 16 Romea Sud 74\, Cervia\, Italia\, 48015\, Italia
CATEGORIES:CHIUSURA,Noleggio Kart
END:VEVENT
BEGIN:VEVENT
DTSTART;TZID=UTC:20241110T080000
DTEND;TZID=UTC:20241110T230000
DTSTAMP:20260420T023821
CREATED:20241101T144434Z
LAST-MODIFIED:20241117T133046Z
UID:10001482-1731225600-1731279600@happyvalleykart.com
SUMMARY:CHIUSURA INVERNALE
DESCRIPTION:
URL:https://happyvalleykart.com/event/chiusura-invernale/2024-11-10/
LOCATION:Kartodromo Happy Valley\, S.S. 16 Romea Sud 74\, Cervia\, Italia\, 48015\, Italia
CATEGORIES:CHIUSURA,Noleggio Kart
END:VEVENT
BEGIN:VEVENT
DTSTART;TZID=UTC:20241109T080000
DTEND;TZID=UTC:20241109T230000
DTSTAMP:20260420T023821
CREATED:20241101T144434Z
LAST-MODIFIED:20241117T133046Z
UID:10001481-1731139200-1731193200@happyvalleykart.com
SUMMARY:CHIUSURA INVERNALE
DESCRIPTION:
URL:https://happyvalleykart.com/event/chiusura-invernale/2024-11-09/
LOCATION:Kartodromo Happy Valley\, S.S. 16 Romea Sud 74\, Cervia\, Italia\, 48015\, Italia
CATEGORIES:CHIUSURA,Noleggio Kart
END:VEVENT
BEGIN:VEVENT
DTSTART;TZID=UTC:20241108T080000
DTEND;TZID=UTC:20241108T230000
DTSTAMP:20260420T023821
CREATED:20241101T144434Z
LAST-MODIFIED:20241117T133046Z
UID:10001480-1731052800-1731106800@happyvalleykart.com
SUMMARY:CHIUSURA INVERNALE
DESCRIPTION:
URL:https://happyvalleykart.com/event/chiusura-invernale/2024-11-08/
LOCATION:Kartodromo Happy Valley\, S.S. 16 Romea Sud 74\, Cervia\, Italia\, 48015\, Italia
CATEGORIES:CHIUSURA,Noleggio Kart
END:VEVENT
BEGIN:VEVENT
DTSTART;TZID=UTC:20241107T080000
DTEND;TZID=UTC:20241107T230000
DTSTAMP:20260420T023821
CREATED:20241101T144434Z
LAST-MODIFIED:20241117T133046Z
UID:10001479-1730966400-1731020400@happyvalleykart.com
SUMMARY:CHIUSURA INVERNALE
DESCRIPTION:
URL:https://happyvalleykart.com/event/chiusura-invernale/2024-11-07/
LOCATION:Kartodromo Happy Valley\, S.S. 16 Romea Sud 74\, Cervia\, Italia\, 48015\, Italia
CATEGORIES:CHIUSURA,Noleggio Kart
END:VEVENT
BEGIN:VEVENT
DTSTART;TZID=UTC:20241106T080000
DTEND;TZID=UTC:20241106T230000
DTSTAMP:20260420T023821
CREATED:20241101T144434Z
LAST-MODIFIED:20241117T133046Z
UID:10001478-1730880000-1730934000@happyvalleykart.com
SUMMARY:CHIUSURA INVERNALE
DESCRIPTION:
URL:https://happyvalleykart.com/event/chiusura-invernale/2024-11-06/
LOCATION:Kartodromo Happy Valley\, S.S. 16 Romea Sud 74\, Cervia\, Italia\, 48015\, Italia
CATEGORIES:CHIUSURA,Noleggio Kart
END:VEVENT
BEGIN:VEVENT
DTSTART;TZID=UTC:20241105T080000
DTEND;TZID=UTC:20241105T230000
DTSTAMP:20260420T023821
CREATED:20241101T144434Z
LAST-MODIFIED:20241117T133046Z
UID:10001477-1730793600-1730847600@happyvalleykart.com
SUMMARY:CHIUSURA INVERNALE
DESCRIPTION:
URL:https://happyvalleykart.com/event/chiusura-invernale/2024-11-05/
LOCATION:Kartodromo Happy Valley\, S.S. 16 Romea Sud 74\, Cervia\, Italia\, 48015\, Italia
CATEGORIES:CHIUSURA,Noleggio Kart
END:VEVENT
BEGIN:VEVENT
DTSTART;TZID=UTC:20241104T080000
DTEND;TZID=UTC:20241104T230000
DTSTAMP:20260420T023821
CREATED:20241101T144434Z
LAST-MODIFIED:20241117T133046Z
UID:10001476-1730707200-1730761200@happyvalleykart.com
SUMMARY:CHIUSURA INVERNALE
DESCRIPTION:
URL:https://happyvalleykart.com/event/chiusura-invernale/2024-11-04/
LOCATION:Kartodromo Happy Valley\, S.S. 16 Romea Sud 74\, Cervia\, Italia\, 48015\, Italia
CATEGORIES:CHIUSURA,Noleggio Kart
END:VEVENT
END:VCALENDAR