BEGIN:VCALENDAR
VERSION:2.0
PRODID:-//Happy Valley - ECPv6.15.17//NONSGML v1.0//EN
CALSCALE:GREGORIAN
METHOD:PUBLISH
X-WR-CALNAME:Happy Valley
X-ORIGINAL-URL:https://happyvalleykart.com
X-WR-CALDESC:Eventi per Happy Valley
REFRESH-INTERVAL;VALUE=DURATION:PT1H
X-Robots-Tag:noindex
X-PUBLISHED-TTL:PT1H
BEGIN:VTIMEZONE
TZID:UTC
BEGIN:STANDARD
TZOFFSETFROM:+0000
TZOFFSETTO:+0000
TZNAME:UTC
DTSTART:20240101T000000
END:STANDARD
END:VTIMEZONE
BEGIN:VEVENT
DTSTART;TZID=UTC:20250222T080000
DTEND;TZID=UTC:20250222T230000
DTSTAMP:20260420T074307
CREATED:20241101T144434Z
LAST-MODIFIED:20241117T133046Z
UID:10001586-1740211200-1740265200@happyvalleykart.com
SUMMARY:CHIUSURA INVERNALE
DESCRIPTION:
URL:https://happyvalleykart.com/event/chiusura-invernale/2025-02-22/
LOCATION:Kartodromo Happy Valley\, S.S. 16 Romea Sud 74\, Cervia\, Italia\, 48015\, Italia
CATEGORIES:CHIUSURA,Noleggio Kart
END:VEVENT
BEGIN:VEVENT
DTSTART;TZID=UTC:20250223T080000
DTEND;TZID=UTC:20250223T230000
DTSTAMP:20260420T074307
CREATED:20241101T144434Z
LAST-MODIFIED:20241117T133046Z
UID:10001587-1740297600-1740351600@happyvalleykart.com
SUMMARY:CHIUSURA INVERNALE
DESCRIPTION:
URL:https://happyvalleykart.com/event/chiusura-invernale/2025-02-23/
LOCATION:Kartodromo Happy Valley\, S.S. 16 Romea Sud 74\, Cervia\, Italia\, 48015\, Italia
CATEGORIES:CHIUSURA,Noleggio Kart
END:VEVENT
BEGIN:VEVENT
DTSTART;TZID=UTC:20250224T080000
DTEND;TZID=UTC:20250224T230000
DTSTAMP:20260420T074307
CREATED:20241101T144434Z
LAST-MODIFIED:20241117T133046Z
UID:10001588-1740384000-1740438000@happyvalleykart.com
SUMMARY:CHIUSURA INVERNALE
DESCRIPTION:
URL:https://happyvalleykart.com/event/chiusura-invernale/2025-02-24/
LOCATION:Kartodromo Happy Valley\, S.S. 16 Romea Sud 74\, Cervia\, Italia\, 48015\, Italia
CATEGORIES:CHIUSURA,Noleggio Kart
END:VEVENT
BEGIN:VEVENT
DTSTART;TZID=UTC:20250225T080000
DTEND;TZID=UTC:20250225T230000
DTSTAMP:20260420T074307
CREATED:20241101T144434Z
LAST-MODIFIED:20241117T133046Z
UID:10001589-1740470400-1740524400@happyvalleykart.com
SUMMARY:CHIUSURA INVERNALE
DESCRIPTION:
URL:https://happyvalleykart.com/event/chiusura-invernale/2025-02-25/
LOCATION:Kartodromo Happy Valley\, S.S. 16 Romea Sud 74\, Cervia\, Italia\, 48015\, Italia
CATEGORIES:CHIUSURA,Noleggio Kart
END:VEVENT
BEGIN:VEVENT
DTSTART;TZID=UTC:20250226T080000
DTEND;TZID=UTC:20250226T230000
DTSTAMP:20260420T074307
CREATED:20241101T144434Z
LAST-MODIFIED:20241117T133046Z
UID:10001590-1740556800-1740610800@happyvalleykart.com
SUMMARY:CHIUSURA INVERNALE
DESCRIPTION:
URL:https://happyvalleykart.com/event/chiusura-invernale/2025-02-26/
LOCATION:Kartodromo Happy Valley\, S.S. 16 Romea Sud 74\, Cervia\, Italia\, 48015\, Italia
CATEGORIES:CHIUSURA,Noleggio Kart
END:VEVENT
BEGIN:VEVENT
DTSTART;TZID=UTC:20250227T080000
DTEND;TZID=UTC:20250227T230000
DTSTAMP:20260420T074307
CREATED:20241101T144434Z
LAST-MODIFIED:20241117T133046Z
UID:10001591-1740643200-1740697200@happyvalleykart.com
SUMMARY:CHIUSURA INVERNALE
DESCRIPTION:
URL:https://happyvalleykart.com/event/chiusura-invernale/2025-02-27/
LOCATION:Kartodromo Happy Valley\, S.S. 16 Romea Sud 74\, Cervia\, Italia\, 48015\, Italia
CATEGORIES:CHIUSURA,Noleggio Kart
END:VEVENT
BEGIN:VEVENT
DTSTART;TZID=UTC:20250228T080000
DTEND;TZID=UTC:20250228T230000
DTSTAMP:20260420T074307
CREATED:20241101T144434Z
LAST-MODIFIED:20241117T133046Z
UID:10001592-1740729600-1740783600@happyvalleykart.com
SUMMARY:CHIUSURA INVERNALE
DESCRIPTION:
URL:https://happyvalleykart.com/event/chiusura-invernale/2025-02-28/
LOCATION:Kartodromo Happy Valley\, S.S. 16 Romea Sud 74\, Cervia\, Italia\, 48015\, Italia
CATEGORIES:CHIUSURA,Noleggio Kart
END:VEVENT
BEGIN:VEVENT
DTSTART;TZID=UTC:20250301T080000
DTEND;TZID=UTC:20250301T230000
DTSTAMP:20260420T074307
CREATED:20241101T144434Z
LAST-MODIFIED:20241117T133046Z
UID:10001593-1740816000-1740870000@happyvalleykart.com
SUMMARY:CHIUSURA INVERNALE
DESCRIPTION:
URL:https://happyvalleykart.com/event/chiusura-invernale/2025-03-01/
LOCATION:Kartodromo Happy Valley\, S.S. 16 Romea Sud 74\, Cervia\, Italia\, 48015\, Italia
CATEGORIES:CHIUSURA,Noleggio Kart
END:VEVENT
BEGIN:VEVENT
DTSTART;TZID=UTC:20250302T080000
DTEND;TZID=UTC:20250302T230000
DTSTAMP:20260420T074307
CREATED:20241101T144434Z
LAST-MODIFIED:20241117T133046Z
UID:10001594-1740902400-1740956400@happyvalleykart.com
SUMMARY:CHIUSURA INVERNALE
DESCRIPTION:
URL:https://happyvalleykart.com/event/chiusura-invernale/2025-03-02/
LOCATION:Kartodromo Happy Valley\, S.S. 16 Romea Sud 74\, Cervia\, Italia\, 48015\, Italia
CATEGORIES:CHIUSURA,Noleggio Kart
END:VEVENT
END:VCALENDAR