BEGIN:VCALENDAR
VERSION:2.0
PRODID:-//Happy Valley - ECPv6.15.17//NONSGML v1.0//EN
CALSCALE:GREGORIAN
METHOD:PUBLISH
X-ORIGINAL-URL:https://happyvalleykart.com
X-WR-CALDESC:Eventi per Happy Valley
REFRESH-INTERVAL;VALUE=DURATION:PT1H
X-Robots-Tag:noindex
X-PUBLISHED-TTL:PT1H
BEGIN:VTIMEZONE
TZID:UTC
BEGIN:STANDARD
TZOFFSETFROM:+0000
TZOFFSETTO:+0000
TZNAME:UTC
DTSTART:20250101T000000
END:STANDARD
END:VTIMEZONE
BEGIN:VEVENT
DTSTART;TZID=UTC:20260607T100000
DTEND;TZID=UTC:20260607T140000
DTSTAMP:20260419T152425
CREATED:20260224T201943Z
LAST-MODIFIED:20260224T201943Z
UID:10002770-1780826400-1780840800@happyvalleykart.com
SUMMARY:Iron Trophy RRK - Happy Valley
DESCRIPTION:
URL:https://happyvalleykart.com/event/iron-trophy-rrk-happy-valley/
LOCATION:Kartodromo Happy Valley\, S.S. 16 Romea Sud 74\, Cervia\, Italia\, 48015\, Italia
CATEGORIES:Rental
ATTACH;FMTTYPE=image/jpeg:https://happyvalleykart.com/wp-content/uploads/2026/02/WhatsApp-Image-2026-01-27-at-15.11.33.jpeg
END:VEVENT
END:VCALENDAR