BEGIN:VCALENDAR
VERSION:2.0
PRODID:-//Happy Valley - ECPv6.15.17//NONSGML v1.0//EN
CALSCALE:GREGORIAN
METHOD:PUBLISH
X-ORIGINAL-URL:https://happyvalleykart.com
X-WR-CALDESC:Eventi per Happy Valley
REFRESH-INTERVAL;VALUE=DURATION:PT1H
X-Robots-Tag:noindex
X-PUBLISHED-TTL:PT1H
BEGIN:VTIMEZONE
TZID:UTC
BEGIN:STANDARD
TZOFFSETFROM:+0000
TZOFFSETTO:+0000
TZNAME:UTC
DTSTART:20240101T000000
END:STANDARD
END:VTIMEZONE
BEGIN:VEVENT
DTSTART;TZID=UTC:20250705T100000
DTEND;TZID=UTC:20250705T123000
DTSTAMP:20260424T104226
CREATED:20250513T130218Z
LAST-MODIFIED:20250823T173305Z
UID:10002489-1751709600-1751718600@happyvalleykart.com
SUMMARY:Noleggio Kart bambini (6-13 anni)
DESCRIPTION:
URL:https://happyvalleykart.com/event/noleggio-kart-bambini-6-13-anni/2025-07-05/
LOCATION:Kartodromo Happy Valley\, S.S. 16 Romea Sud 74\, Cervia\, Italia\, 48015\, Italia
CATEGORIES:Noleggio Kart
END:VEVENT
BEGIN:VEVENT
DTSTART;TZID=UTC:20250705T160000
DTEND;TZID=UTC:20250705T230000
DTSTAMP:20260424T104226
CREATED:20250613T060128Z
LAST-MODIFIED:20250726T160148Z
UID:10002500-1751731200-1751756400@happyvalleykart.com
SUMMARY:Noleggio Kart
DESCRIPTION:
URL:https://happyvalleykart.com/event/noleggio-kart-9/2025-07-05/
LOCATION:Kartodromo Happy Valley\, S.S. 16 Romea Sud 74\, Cervia\, Italia\, 48015\, Italia
CATEGORIES:Noleggio Kart
END:VEVENT
END:VCALENDAR