BEGIN:VCALENDAR
VERSION:2.0
PRODID:-//Happy Valley - ECPv6.15.17//NONSGML v1.0//EN
CALSCALE:GREGORIAN
METHOD:PUBLISH
X-WR-CALNAME:Happy Valley
X-ORIGINAL-URL:https://happyvalleykart.com
X-WR-CALDESC:Eventi per Happy Valley
REFRESH-INTERVAL;VALUE=DURATION:PT1H
X-Robots-Tag:noindex
X-PUBLISHED-TTL:PT1H
BEGIN:VTIMEZONE
TZID:UTC
BEGIN:STANDARD
TZOFFSETFROM:+0000
TZOFFSETTO:+0000
TZNAME:UTC
DTSTART:20240101T000000
END:STANDARD
END:VTIMEZONE
BEGIN:VEVENT
DTSTART;TZID=UTC:20250329T080000
DTEND;TZID=UTC:20250329T180000
DTSTAMP:20260419T214522
CREATED:20250110T150312Z
LAST-MODIFIED:20250319T142825Z
UID:10002029-1743235200-1743271200@happyvalleykart.com
SUMMARY:2° PROVA COPPA ITALIA DI ZONA KART
DESCRIPTION:COMUNICATO GARA>>>
URL:https://happyvalleykart.com/event/2-prova-coppa-italia-di-zona-kart-2/2025-03-29/
LOCATION:Kartodromo Happy Valley\, S.S. 16 Romea Sud 74\, Cervia\, Italia\, 48015\, Italia
CATEGORIES:Eventi,Noleggio Kart,Prove libere Kart/Moto di proprietà
ATTACH;FMTTYPE=image/jpeg:https://happyvalleykart.com/wp-content/uploads/2024/04/happy-valley-galleria5.jpg
END:VEVENT
BEGIN:VEVENT
DTSTART;TZID=UTC:20250329T090000
DTEND;TZID=UTC:20250329T180000
DTSTAMP:20260419T214522
CREATED:20250217T201143Z
LAST-MODIFIED:20250217T201143Z
UID:10002007-1743238800-1743271200@happyvalleykart.com
SUMMARY:Libere Kart Pre Gara
DESCRIPTION:Alle prove libere si accede prenotando telefonicamente al 351 7374427 oppure al 0544 987304 (no e-mail\, no messaggi\,no whats app). Le prenotazioni sono aperte dal martedì al venerdì dalle 15 alle 19 antecedenti al week-end scelto.
URL:https://happyvalleykart.com/event/libere-kart-pre-gara/
LOCATION:Kartodromo Happy Valley\, S.S. 16 Romea Sud 74\, Cervia\, Italia\, 48015\, Italia
CATEGORIES:Orari,Prove libere Kart/Moto di proprietà
ATTACH;FMTTYPE=image/jpeg:https://happyvalleykart.com/wp-content/uploads/2024/03/kart-proprieta.jpeg
END:VEVENT
END:VCALENDAR